BEGIN:VCALENDAR
VERSION:2.0
PRODID:-//Sandwell Aquatics Club - ECPv6.15.20//NONSGML v1.0//EN
CALSCALE:GREGORIAN
METHOD:PUBLISH
X-ORIGINAL-URL:https://sandwellaquatics.org
X-WR-CALDESC:Events for Sandwell Aquatics Club
REFRESH-INTERVAL;VALUE=DURATION:PT1H
X-Robots-Tag:noindex
X-PUBLISHED-TTL:PT1H
BEGIN:VTIMEZONE
TZID:Europe/London
BEGIN:DAYLIGHT
TZOFFSETFROM:+0000
TZOFFSETTO:+0100
TZNAME:BST
DTSTART:20250330T010000
END:DAYLIGHT
BEGIN:STANDARD
TZOFFSETFROM:+0100
TZOFFSETTO:+0000
TZNAME:GMT
DTSTART:20251026T010000
END:STANDARD
BEGIN:DAYLIGHT
TZOFFSETFROM:+0000
TZOFFSETTO:+0100
TZNAME:BST
DTSTART:20260329T010000
END:DAYLIGHT
BEGIN:STANDARD
TZOFFSETFROM:+0100
TZOFFSETTO:+0000
TZNAME:GMT
DTSTART:20261025T010000
END:STANDARD
BEGIN:DAYLIGHT
TZOFFSETFROM:+0000
TZOFFSETTO:+0100
TZNAME:BST
DTSTART:20270328T010000
END:DAYLIGHT
BEGIN:STANDARD
TZOFFSETFROM:+0100
TZOFFSETTO:+0000
TZNAME:GMT
DTSTART:20271031T010000
END:STANDARD
END:VTIMEZONE
BEGIN:VEVENT
DTSTART;TZID=Europe/London:20260110T133000
DTEND;TZID=Europe/London:20260110T173000
DTSTAMP:20260423T103723
CREATED:20251220T111649Z
LAST-MODIFIED:20260110T181138Z
UID:5613-1768051800-1768066200@sandwellaquatics.org
SUMMARY:2026 Swimgainz Development League - Round 1
DESCRIPTION:00Days00Hours00Minutes00Seconds\n\n\n\n\n\n\n\n\nSandwell Aquatics is proud to be competing in the SwimGainz Junior Development League Gala Series\, taking part in all scheduled rounds of the competition. This league provides an exciting\, team-based racing environment that supports swimmer development while building confidence and club spirit.  \n\n\n\nGala Details\n\n\n\n\n\n\n\nWe are taking part in Gala 1 at Perdiswell Leisure Centre\, Bilford Rd\, Worcester\, WR3 8DX – Saturday 10th January 2026. Swimmers will be selected from eligible squads for each round\, giving many athletes the opportunity to represent the club. If you have received an invite\, accept or decline in Swim Manager – We would love to have a full team representing Sandwell for the first gala of 2026. If you are unable to attend due to prior arrangements\, please decline the invite asap so another child has the opportunity to swim. \n\n\n\nWarm up starts at 1.30pm sharp\, so please can I ask for everyone to be on poolside for no later than 1.15pm.   \n\n\n\nThe teams competing in this gala along with Sandwell  are Worcester\, Evesham and  Cheltenham SWPC.  \n\n\n\nDue to the limited space available poolside can I ask for small bags poolside only please.  Swimmers need a towel\, spare hat and goggles\, a Sandwell (or a plain Black / Red) T-shirt to keep them warm and plenty to drink.  \n\n\n\nGala Spectator Tickets\n\n\n\n\n\n\n\nWe warmly encourage parents\, family members\, and supporters to come along and cheer on the team. Your support plays a huge role in creating a positive and motivating atmosphere for our swimmers. Spectator tickets for this gala MUST be purchased in advanced –  there will be NO option to purchase tickets on the evening (usually sold out before the event) .  Tickets can be purchased here – Purchase General Admission Tickets \n\n\n\n\n\nRelated Events\n\n\n\n    \n        \n\n            \n\n            \n    No Posts Found \n        \n    \n\n\n\n\n\n\n\n\nGala Venue\n\n\n\n\n\n\n\n\n\nGala Promoter
URL:https://sandwellaquatics.org/event/2026-swimgainz-development-league-round-1/
LOCATION:Perdiswell Leisure Centre\, Worcester\, Bilford Rd\, Worcester\, WR3 8DX
CATEGORIES:Swimming
ATTACH;FMTTYPE=image/jpeg:https://sandwellaquatics.org/wp-content/uploads/2025/12/swimgainz-league-logo.jpg
ORGANIZER;CN="Swingainz Junior Development League":MAILTO:SGJLgala@hotmail.com
END:VEVENT
BEGIN:VEVENT
DTSTART;TZID=Europe/London:20260118T080000
DTEND;TZID=Europe/London:20260118T170000
DTSTAMP:20260423T103723
CREATED:20251221T202407Z
LAST-MODIFIED:20251231T064757Z
UID:5704-1768723200-1768755600@sandwellaquatics.org
SUMMARY:2026 Worcester County Swimming Championships - Distance
DESCRIPTION:00Days00Hours00Minutes00Seconds\n\n\n\n\n\n\nSandwell Aquatics is proud to be competing in the Worcester County Swimming Championships long distance events on 18th January 2026 at Perdiswell Leisure Centre in Worcester\, where our qualifying swimmers will tackle the endurance-focused races such as the 800 m and 1500 m freestyle against other clubs across the county.  \n\n\n\nThis event is a key part of the Championships programme and offers our athletes the chance to demonstrate stamina\, pacing and competitive grit in a challenging race environment. We wish all our long distance competitors the best of luck and we encourage family\, friends and club supporters to come along\, cheer them on\, and help create a great atmosphere as they swim for personal bests and county honours. \n\n\n\nSpectator Tickets\n\n\n\n£5.00 per session\, £8.00 for a full day \n\n\n\nWe warmly encourage parents\, family members\, and supporters to come along and cheer on the team. Your support plays a huge role in creating a positive and motivating atmosphere for our swimmers. Entry tickets can be purchased on the day \n\n\n\n\n\n    \n        \n\n            \n\n            \n    No Posts Found \n        \n    \n\n\n\n\n\n\n\n\nVenue\n\n\n\n\n\n\n\n\n\nOrganiser
URL:https://sandwellaquatics.org/event/2026-worcester-county-swimming-championships-distance/
LOCATION:Perdiswell Leisure Centre\, Worcester\, Bilford Rd\, Worcester\, WR3 8DX
CATEGORIES:Swimming
ATTACH;FMTTYPE=image/png:https://sandwellaquatics.org/wp-content/uploads/2025/08/wcsa-logo.png
ORGANIZER;CN="Worcester County Swimming Association":MAILTO:info@swimworcestercounty.org
END:VEVENT
BEGIN:VEVENT
DTSTART;TZID=Europe/London:20260124T080000
DTEND;TZID=Europe/London:20260125T180000
DTSTAMP:20260423T103723
CREATED:20251221T203935Z
LAST-MODIFIED:20251230T173706Z
UID:5717-1769241600-1769364000@sandwellaquatics.org
SUMMARY:2026 Worcester County Swimming Championships - Sprints 1
DESCRIPTION:00Days00Hours00Minutes00Seconds\n\n\n\n\n\n\n\n\nSaturday 24 January 2026\n\n\n\nSandwell Aquatics swimmers will be in action on Saturday 24th January 2026 as the Worcester County Swimming Championships move into the main long-course programme. The day features a wide range of individual events across all strokes\, showcasing speed\, technical skill and race execution. With swimmers competing across multiple age groups\, this session offers an exciting opportunity for Sandwell athletes to test themselves at county level\, chase personal bests and gain valuable championship racing experience. Supporters are encouraged to attend and help create a positive\, high-energy atmosphere poolside. \n\n\n\nSunday 25 January 2026\n\n\n\nCompetition continues on Sunday 25 January 2026\, with Sandwell Aquatics swimmers returning to the pool for another full day of long-course racing at the Worcester County Championships. This session places an emphasis on race strategy\, endurance and consistency as the weekend builds towards its conclusion. Our swimmers will be aiming to finish the championships strongly\, representing the club with pride and determination. Family\, friends and club supporters are warmly invited to come along and cheer on the team as they round off an exciting championship weekend. \n\n\n\nSpectator Tickets\n\n\n\nEntry tickets can be purchased on the day.  £5.00 per session\, £8.00 for a full day \n\n\n\n\n\n    \n        \n\n            \n\n            \n    No Posts Found \n        \n    \n\n\n\n\n\n\n\n\nVenue\n\n\n\n\n\n\n\n\n\nOrganiser
URL:https://sandwellaquatics.org/event/5717/
LOCATION:Sandwell Aquatics Centre\, Londonderry Ln\, Smethwick\, B67 7EW\, United Kingdom
CATEGORIES:Swimming
ATTACH;FMTTYPE=image/jpeg:https://sandwellaquatics.org/wp-content/uploads/2025/09/AM1I9995-scaled.jpg
ORGANIZER;CN="Worcester County Swimming Association":MAILTO:info@swimworcestercounty.org
END:VEVENT
END:VCALENDAR