BEGIN:VCALENDAR
VERSION:2.0
PRODID:-//Sandwell Aquatics Club - ECPv6.15.20//NONSGML v1.0//EN
CALSCALE:GREGORIAN
METHOD:PUBLISH
X-WR-CALNAME:Sandwell Aquatics Club
X-ORIGINAL-URL:https://sandwellaquatics.org
X-WR-CALDESC:Events for Sandwell Aquatics Club
REFRESH-INTERVAL;VALUE=DURATION:PT1H
X-Robots-Tag:noindex
X-PUBLISHED-TTL:PT1H
BEGIN:VTIMEZONE
TZID:Europe/London
BEGIN:DAYLIGHT
TZOFFSETFROM:+0000
TZOFFSETTO:+0100
TZNAME:BST
DTSTART:20240331T010000
END:DAYLIGHT
BEGIN:STANDARD
TZOFFSETFROM:+0100
TZOFFSETTO:+0000
TZNAME:GMT
DTSTART:20241027T010000
END:STANDARD
BEGIN:DAYLIGHT
TZOFFSETFROM:+0000
TZOFFSETTO:+0100
TZNAME:BST
DTSTART:20250330T010000
END:DAYLIGHT
BEGIN:STANDARD
TZOFFSETFROM:+0100
TZOFFSETTO:+0000
TZNAME:GMT
DTSTART:20251026T010000
END:STANDARD
BEGIN:DAYLIGHT
TZOFFSETFROM:+0000
TZOFFSETTO:+0100
TZNAME:BST
DTSTART:20260329T010000
END:DAYLIGHT
BEGIN:STANDARD
TZOFFSETFROM:+0100
TZOFFSETTO:+0000
TZNAME:GMT
DTSTART:20261025T010000
END:STANDARD
END:VTIMEZONE
BEGIN:VEVENT
DTSTART;TZID=Europe/London:20251006T200000
DTEND;TZID=Europe/London:20251006T223000
DTSTAMP:20260425T143636
CREATED:20250906T105300Z
LAST-MODIFIED:20251229T224731Z
UID:4010-1759780800-1759789800@sandwellaquatics.org
SUMMARY:Camp Hill v Sandwell A
DESCRIPTION:The road trip continues for Sandwell Aquatics Men’s A as they dive into another crucial away clash in the Midlands Water Polo League. Playing in unfamiliar waters only fuels their determination to perform.  \n\n\n\nYou’ll see fierce battles\, lightning transitions\, and no shortage of commitment as the team look to seize momentum and secure the win. These are the games that define a season – tough pools\, tough opposition\, but endless opportunities to show heart and resilience.  \n\n\n\nEvery message of support and every cheer from afar fuels the effort. Stay connected\, back the team\, and share the pride of Sandwell spirit. \n\n\n\n\n\n\n\n\nEvent Contacts\n\n\n\n\n\n\n\n\n\n\n	\n	\n\n	\n		Sandwell Aquatics Centre\n	\n\n	\n						\n				\n\nLondonderry Ln\n	\n		\n		Smethwick\,\n\n\n	B67 7EW\n\n	United Kingdom\n\n\n\n							\n		\n		\n					View Venue Website\n			\n	\n	\n	\n\n\n\n	\n		Add Button Text	\n\n\n\n	\n		\n			\n				\n					\n						\n	\n	\n\n						\n							Add to calendar						\n						\n	\n\n					\n					\n						\n															\n									\n										Google Calendar									\n								\n															\n									\n										iCalendar									\n								\n															\n									\n										Outlook 365									\n								\n															\n									\n										Outlook Live									\n								\n													\n					\n				\n			\n		\n	\n\n\n\n\n\n\n\nUseful Links\n\n\n\n\n\n\n\n\nMidland Water Polo League\n\n\n\nBritish Water Polo League\n\n\n\nSpond (Login)\n\n\n\n\n\n\nFollow Us\n\n\n\n\n\n\n\nFacebook\n\nInstagram\n\nX\n\nWhatsApp\n\nMail
URL:https://sandwellaquatics.org/event/camp-hill-v-sandwell-a/
CATEGORIES:Water Polo
ATTACH;FMTTYPE=image/jpeg:https://sandwellaquatics.org/wp-content/uploads/2025/09/polo-pexels-gregory-costa-5733482-scaled.jpg
END:VEVENT
BEGIN:VEVENT
DTSTART;TZID=Europe/London:20251013T200000
DTEND;TZID=Europe/London:20251013T220000
DTSTAMP:20260425T143636
CREATED:20250917T105540Z
LAST-MODIFIED:20251229T224731Z
UID:4014-1760385600-1760392800@sandwellaquatics.org
SUMMARY:Warwick A v Sandwell A
DESCRIPTION:Away games bring new challenges\, and Sandwell Aquatics Men’s A are ready to face them head-on in their next MWPL fixture. With determination in every swim and resilience in every contest for the ball\, the team are prepared to silence the home crowd with a statement performance.  \n\n\n\nThese matches test character as much as skill\, but Sandwell have the blend of experience and energy to rise to the occasion. The mission is simple: fight for every possession\, stay strong in defence\, and take every chance in attack. Stand with them\, even from a distance\, and back their effort. \n\n\n\n\n\n\n\n\nEvent Contacts\n\n\n\n\n\n\n\n\n\n\n	\n	\n\n	\n		Sandwell Aquatics Centre\n	\n\n	\n						\n				\n\nLondonderry Ln\n	\n		\n		Smethwick\,\n\n\n	B67 7EW\n\n	United Kingdom\n\n\n\n							\n		\n		\n					View Venue Website\n			\n	\n	\n	\n\n\n\n	\n		Add Button Text	\n\n\n\n	\n		\n			\n				\n					\n						\n	\n	\n\n						\n							Add to calendar						\n						\n	\n\n					\n					\n						\n															\n									\n										Google Calendar									\n								\n															\n									\n										iCalendar									\n								\n															\n									\n										Outlook 365									\n								\n															\n									\n										Outlook Live									\n								\n													\n					\n				\n			\n		\n	\n\n\n\n\n\n\n\nUseful Links\n\n\n\n\n\n\n\n\nMidland Water Polo League\n\n\n\nBritish Water Polo League\n\n\n\nSpond (Login)\n\n\n\n\n\n\nFollow Us\n\n\n\n\n\n\n\nFacebook\n\nInstagram\n\nX\n\nWhatsApp\n\nMail
URL:https://sandwellaquatics.org/event/warwick-a-v-sandwell-a/
LOCATION:Alan Higgs Centre\, Allard Way\, Coventry\, CV3 1HW\, United Kingdom
CATEGORIES:Water Polo
ATTACH;FMTTYPE=image/jpeg:https://sandwellaquatics.org/wp-content/uploads/2025/09/Water-Polo-1.jpg
END:VEVENT
BEGIN:VEVENT
DTSTART;TZID=Europe/London:20251019T200000
DTEND;TZID=Europe/London:20251019T220000
DTSTAMP:20260425T143636
CREATED:20250919T105700Z
LAST-MODIFIED:20251229T224731Z
UID:4018-1760904000-1760911200@sandwellaquatics.org
SUMMARY:Boldmere A v Sandwell A
DESCRIPTION:Sandwell Aquatics Men’s A are on the road for their next Midlands Water Polo League clash! The team are fired up and ready to battle it out in a tough away fixture\, showing grit\, speed\, and determination to bring the points back to Sandwell. Keep an eye on the updates and cheer us on from afar! \n\n\n\n\n\n\n\n\nEvent Contacts\n\n\n\n\n\n\n\n\n\n\n\n\n\nUseful Links\n\n\n\n\n\n\n\n\nMidland Water Polo League\n\n\n\nBritish Water Polo League\n\n\n\nSpond (Login)\n\n\n\n\n\n\nFollow Us\n\n\n\n\n\n\n\nFacebook\n\nInstagram\n\nX\n\nWhatsApp\n\nMail
URL:https://sandwellaquatics.org/event/boldmere-a-v-sandwell-a/
CATEGORIES:Water Polo
ATTACH;FMTTYPE=image/jpeg:https://sandwellaquatics.org/wp-content/uploads/2025/08/polo-pexels-case-originals-3800510-scaled.jpg
END:VEVENT
BEGIN:VEVENT
DTSTART;TZID=Europe/London:20251022T200000
DTEND;TZID=Europe/London:20251022T220000
DTSTAMP:20260425T143636
CREATED:20250922T105800Z
LAST-MODIFIED:20251229T224731Z
UID:4022-1761163200-1761170400@sandwellaquatics.org
SUMMARY:Sandwell A v Camp Hill
DESCRIPTION:
URL:https://sandwellaquatics.org/event/sandwell-a-v-camp-hill/
CATEGORIES:Water Polo
ATTACH;FMTTYPE=image/jpeg:https://sandwellaquatics.org/wp-content/uploads/2025/08/Water-Polo-1.jpg
END:VEVENT
END:VCALENDAR