BEGIN:VCALENDAR
VERSION:2.0
PRODID:-//Sandwell Aquatics Club - ECPv6.15.20//NONSGML v1.0//EN
CALSCALE:GREGORIAN
METHOD:PUBLISH
X-ORIGINAL-URL:https://sandwellaquatics.org
X-WR-CALDESC:Events for Sandwell Aquatics Club
REFRESH-INTERVAL;VALUE=DURATION:PT1H
X-Robots-Tag:noindex
X-PUBLISHED-TTL:PT1H
BEGIN:VTIMEZONE
TZID:Europe/London
BEGIN:DAYLIGHT
TZOFFSETFROM:+0000
TZOFFSETTO:+0100
TZNAME:BST
DTSTART:20240331T010000
END:DAYLIGHT
BEGIN:STANDARD
TZOFFSETFROM:+0100
TZOFFSETTO:+0000
TZNAME:GMT
DTSTART:20241027T010000
END:STANDARD
BEGIN:DAYLIGHT
TZOFFSETFROM:+0000
TZOFFSETTO:+0100
TZNAME:BST
DTSTART:20250330T010000
END:DAYLIGHT
BEGIN:STANDARD
TZOFFSETFROM:+0100
TZOFFSETTO:+0000
TZNAME:GMT
DTSTART:20251026T010000
END:STANDARD
BEGIN:DAYLIGHT
TZOFFSETFROM:+0000
TZOFFSETTO:+0100
TZNAME:BST
DTSTART:20260329T010000
END:DAYLIGHT
BEGIN:STANDARD
TZOFFSETFROM:+0100
TZOFFSETTO:+0000
TZNAME:GMT
DTSTART:20261025T010000
END:STANDARD
END:VTIMEZONE
BEGIN:VEVENT
DTSTART;TZID=Europe/London:20251203T201500
DTEND;TZID=Europe/London:20251203T211500
DTSTAMP:20260425T112824
CREATED:20251229T223700Z
LAST-MODIFIED:20251229T224732Z
UID:5873-1764792900-1764796500@sandwellaquatics.org
SUMMARY:Sandwell Aquatics Juniors Vs Boldmere Juniors
DESCRIPTION:A junior league fixture between Sandwell Aquatics and Boldmere. Both teams field age-group squads in Midlands competition.
URL:https://sandwellaquatics.org/event/sandwell-aquatics-juniors-vs-boldmere-juniors/
LOCATION:Sandwell Aquatics Centre\, Londonderry Ln\, Smethwick\, B67 7EW\, United Kingdom
CATEGORIES:Water Polo
END:VEVENT
BEGIN:VEVENT
DTSTART;TZID=Europe/London:20251211T200000
DTEND;TZID=Europe/London:20251211T210000
DTSTAMP:20260425T112824
CREATED:20251229T223700Z
LAST-MODIFIED:20251229T224733Z
UID:5874-1765483200-1765486800@sandwellaquatics.org
SUMMARY:Worcester Crocodiles Vs Sandwell Aquatics Juniors
DESCRIPTION:Worcester Crocodiles face Sandwell Aquatics Juniors in a scheduled league match. The fixture adds to the junior competition programme.
URL:https://sandwellaquatics.org/event/worcester-crocodiles-vs-sandwell-aquatics-juniors/
CATEGORIES:Water Polo
END:VEVENT
BEGIN:VEVENT
DTSTART;TZID=Europe/London:20251217T171500
DTEND;TZID=Europe/London:20251217T213000
DTSTAMP:20260425T112824
CREATED:20251209T215112Z
LAST-MODIFIED:20251230T124117Z
UID:5548-1765991700-1766007000@sandwellaquatics.org
SUMMARY:Christmas Fun Session 2025
DESCRIPTION:We’re getting into the holiday spirit with some Festive Fun Sessions on Wednesday\, 17th December – and everyone’s invited! More details will be shared soon\, but here’s a sneak peek at the splash-tacular plans: \n\n\n\nTimeSquadActivities17:15 – 18:15FoundationFree swim\, floats\, relays18:30 – 19:30Junior Skills\, Junior Advanced\, Jack’s water polo group Free swim\, floats\, relays or water polo19:30 – 20:30County Development\, Regional Development\, Dave & Matt’s water polo group Free swim\, floats\, relays or water polo20:30 – 21:30Senior Comp\, Performance\, Masters\, U18 polo\, Women poloFree swim\, water polo\n\n\n\nIMPORTANT: To help us plan food and treats\, please complete the attendance form below so we know how many swimmers (and hungry elves!) to cater for. \n\n\n\nhttps://forms.office.com/r/BciWsvYjTv \n\n\n\nIf you can’t make your allotted time\, just let us know — we’ll do our best to find you another festive splash slot! \n\n\n\nTo keep the celebrations going\, the first three sessions will be followed by food and drinks in the training room\, and the final session will enjoy treats in reception. \n\n\n\nWe’re also looking for festive volunteers to help with food on the night. Your support will make the evening even more magical!
URL:https://sandwellaquatics.org/event/christmas-fun-session-2025/
CATEGORIES:Swimming,Water Polo
ATTACH;FMTTYPE=image/jpeg:https://sandwellaquatics.org/wp-content/uploads/2025/09/AM1I9995-scaled.jpg
END:VEVENT
END:VCALENDAR