BEGIN:VCALENDAR
VERSION:2.0
PRODID:-//Sandwell Aquatics Club - ECPv6.15.20//NONSGML v1.0//EN
CALSCALE:GREGORIAN
METHOD:PUBLISH
X-WR-CALNAME:Sandwell Aquatics Club
X-ORIGINAL-URL:https://sandwellaquatics.org
X-WR-CALDESC:Events for Sandwell Aquatics Club
REFRESH-INTERVAL;VALUE=DURATION:PT1H
X-Robots-Tag:noindex
X-PUBLISHED-TTL:PT1H
BEGIN:VTIMEZONE
TZID:Europe/London
BEGIN:DAYLIGHT
TZOFFSETFROM:+0000
TZOFFSETTO:+0100
TZNAME:BST
DTSTART:20250330T010000
END:DAYLIGHT
BEGIN:STANDARD
TZOFFSETFROM:+0100
TZOFFSETTO:+0000
TZNAME:GMT
DTSTART:20251026T010000
END:STANDARD
BEGIN:DAYLIGHT
TZOFFSETFROM:+0000
TZOFFSETTO:+0100
TZNAME:BST
DTSTART:20260329T010000
END:DAYLIGHT
BEGIN:STANDARD
TZOFFSETFROM:+0100
TZOFFSETTO:+0000
TZNAME:GMT
DTSTART:20261025T010000
END:STANDARD
BEGIN:DAYLIGHT
TZOFFSETFROM:+0000
TZOFFSETTO:+0100
TZNAME:BST
DTSTART:20270328T010000
END:DAYLIGHT
BEGIN:STANDARD
TZOFFSETFROM:+0100
TZOFFSETTO:+0000
TZNAME:GMT
DTSTART:20271031T010000
END:STANDARD
END:VTIMEZONE
BEGIN:VEVENT
DTSTART;TZID=Europe/London:20260201T184500
DTEND;TZID=Europe/London:20260201T194500
DTSTAMP:20260423T103657
CREATED:20251229T223730Z
LAST-MODIFIED:20251229T235408Z
UID:5882-1769971500-1769975100@sandwellaquatics.org
SUMMARY:Boldmere Juniors Vs Sandwell Aquatics Juniors
DESCRIPTION:Boldmere Juniors meet Sandwell Aquatics Juniors in league play. The match contributes to the regional junior schedule.
URL:https://sandwellaquatics.org/event/boldmere-juniors-vs-sandwell-aquatics-juniors/
CATEGORIES:Water Polo
ATTACH;FMTTYPE=image/jpeg:https://sandwellaquatics.org/wp-content/uploads/2025/09/Water-Polo-1.jpg
END:VEVENT
BEGIN:VEVENT
DTSTART;TZID=Europe/London:20260204T201500
DTEND;TZID=Europe/London:20260204T211500
DTSTAMP:20260423T103657
CREATED:20251229T223730Z
LAST-MODIFIED:20260325T210401Z
UID:5883-1770236100-1770239700@sandwellaquatics.org
SUMMARY:Sandwell Aquatics Women Vs Boldmere Women
DESCRIPTION:Sandwell Aquatics host Boldmere in a women’s league fixture. Both teams compete within the Midland Water Polo League.
URL:https://sandwellaquatics.org/event/sandwell-aquatics-women-vs-boldmere-women/
CATEGORIES:Water Polo
ATTACH;FMTTYPE=image/jpeg:https://sandwellaquatics.org/wp-content/uploads/2025/08/wp-giulio-fabi-_urKCpNzRMg-unsplash-scaled.jpg
END:VEVENT
BEGIN:VEVENT
DTSTART;TZID=Europe/London:20260211T201500
DTEND;TZID=Europe/London:20260211T211500
DTSTAMP:20260423T103657
CREATED:20251229T223731Z
LAST-MODIFIED:20260325T210401Z
UID:5884-1770840900-1770844500@sandwellaquatics.org
SUMMARY:Sandwell Aquatics Juniors Vs Worcester Crocodiles
DESCRIPTION:Sandwell Aquatics Juniors face Worcester Crocodiles in league competition. The fixture adds to the junior Midlands programme.
URL:https://sandwellaquatics.org/event/sandwell-aquatics-juniors-vs-worcester-crocodiles/
CATEGORIES:Water Polo
ATTACH;FMTTYPE=image/jpeg:https://sandwellaquatics.org/wp-content/uploads/2025/09/Water-Polo-1.jpg
END:VEVENT
BEGIN:VEVENT
DTSTART;TZID=Europe/London:20260225T201500
DTEND;TZID=Europe/London:20260225T211500
DTSTAMP:20260423T103657
CREATED:20251229T223731Z
LAST-MODIFIED:20260325T210401Z
UID:5885-1772050500-1772054100@sandwellaquatics.org
SUMMARY:Sandwell Aquatics Women Vs South Derbyshire Women
DESCRIPTION:A women’s league match featuring Sandwell Aquatics and South Derbyshire. The fixture is part of the regular Midlands season.
URL:https://sandwellaquatics.org/event/sandwell-aquatics-women-vs-south-derbyshire-women/
CATEGORIES:Water Polo
ATTACH;FMTTYPE=image/jpeg:https://sandwellaquatics.org/wp-content/uploads/2025/08/wp-giulio-fabi-_urKCpNzRMg-unsplash-scaled.jpg
END:VEVENT
BEGIN:VEVENT
DTSTART;TZID=Europe/London:20260228T120000
DTEND;TZID=Europe/London:20260228T130000
DTSTAMP:20260423T103657
CREATED:20251229T223731Z
LAST-MODIFIED:20260325T210401Z
UID:5886-1772280000-1772283600@sandwellaquatics.org
SUMMARY:Northampton Juniors Vs Sandwell Aquatics Juniors
DESCRIPTION:Northampton Juniors host Sandwell Aquatics Juniors in league action. The match supports ongoing junior competition in the Midlands.
URL:https://sandwellaquatics.org/event/northampton-juniors-vs-sandwell-aquatics-juniors/
CATEGORIES:Water Polo
ATTACH;FMTTYPE=image/jpeg:https://sandwellaquatics.org/wp-content/uploads/2025/09/Water-Polo-1.jpg
END:VEVENT
END:VCALENDAR