BEGIN:VCALENDAR
VERSION:2.0
PRODID:-//Sandwell Aquatics Club - ECPv6.15.20//NONSGML v1.0//EN
CALSCALE:GREGORIAN
METHOD:PUBLISH
X-ORIGINAL-URL:https://sandwellaquatics.org
X-WR-CALDESC:Events for Sandwell Aquatics Club
REFRESH-INTERVAL;VALUE=DURATION:PT1H
X-Robots-Tag:noindex
X-PUBLISHED-TTL:PT1H
BEGIN:VTIMEZONE
TZID:Europe/London
BEGIN:DAYLIGHT
TZOFFSETFROM:+0000
TZOFFSETTO:+0100
TZNAME:BST
DTSTART:20250330T010000
END:DAYLIGHT
BEGIN:STANDARD
TZOFFSETFROM:+0100
TZOFFSETTO:+0000
TZNAME:GMT
DTSTART:20251026T010000
END:STANDARD
BEGIN:DAYLIGHT
TZOFFSETFROM:+0000
TZOFFSETTO:+0100
TZNAME:BST
DTSTART:20260329T010000
END:DAYLIGHT
BEGIN:STANDARD
TZOFFSETFROM:+0100
TZOFFSETTO:+0000
TZNAME:GMT
DTSTART:20261025T010000
END:STANDARD
BEGIN:DAYLIGHT
TZOFFSETFROM:+0000
TZOFFSETTO:+0100
TZNAME:BST
DTSTART:20270328T010000
END:DAYLIGHT
BEGIN:STANDARD
TZOFFSETFROM:+0100
TZOFFSETTO:+0000
TZNAME:GMT
DTSTART:20271031T010000
END:STANDARD
END:VTIMEZONE
BEGIN:VEVENT
DTSTART;TZID=Europe/London:20260311T203000
DTEND;TZID=Europe/London:20260311T223000
DTSTAMP:20260421T083714
CREATED:20260325T211750Z
LAST-MODIFIED:20260325T211750Z
UID:6935-1773261000-1773268200@sandwellaquatics.org
SUMMARY:Sandwell A V Warwick A
DESCRIPTION:
URL:https://sandwellaquatics.org/event/sandwell-a-v-warwick-a-3/
LOCATION:Sandwell Aquatics Centre\, Londonderry Ln\, Smethwick\, B67 7EW\, United Kingdom
CATEGORIES:Water Polo
END:VEVENT
BEGIN:VEVENT
DTSTART;TZID=Europe/London:20260318T203000
DTEND;TZID=Europe/London:20260318T223000
DTSTAMP:20260421T083714
CREATED:20260325T211853Z
LAST-MODIFIED:20260325T211853Z
UID:6960-1773865800-1773873000@sandwellaquatics.org
SUMMARY:Sandwell Aquatics Youth V Boldmere Youth
DESCRIPTION:
URL:https://sandwellaquatics.org/event/sandwell-aquatics-youth-v-boldmere-youth-2/
LOCATION:Sandwell Aquatics Centre\, Londonderry Ln\, Smethwick\, B67 7EW\, United Kingdom
CATEGORIES:Water Polo
END:VEVENT
BEGIN:VEVENT
DTSTART;TZID=Europe/London:20260326T203000
DTEND;TZID=Europe/London:20260326T223000
DTSTAMP:20260421T083714
CREATED:20260325T211808Z
LAST-MODIFIED:20260325T211808Z
UID:6948-1774557000-1774564200@sandwellaquatics.org
SUMMARY:Kettering V Sandwell B
DESCRIPTION:
URL:https://sandwellaquatics.org/event/kettering-v-sandwell-b-2/
CATEGORIES:Water Polo
END:VEVENT
END:VCALENDAR