BEGIN:VCALENDAR
VERSION:2.0
PRODID:-//Sandwell Aquatics Club - ECPv6.15.20//NONSGML v1.0//EN
CALSCALE:GREGORIAN
METHOD:PUBLISH
X-ORIGINAL-URL:https://sandwellaquatics.org
X-WR-CALDESC:Events for Sandwell Aquatics Club
REFRESH-INTERVAL;VALUE=DURATION:PT1H
X-Robots-Tag:noindex
X-PUBLISHED-TTL:PT1H
BEGIN:VTIMEZONE
TZID:Europe/London
BEGIN:DAYLIGHT
TZOFFSETFROM:+0000
TZOFFSETTO:+0100
TZNAME:BST
DTSTART:20250330T010000
END:DAYLIGHT
BEGIN:STANDARD
TZOFFSETFROM:+0100
TZOFFSETTO:+0000
TZNAME:GMT
DTSTART:20251026T010000
END:STANDARD
BEGIN:DAYLIGHT
TZOFFSETFROM:+0000
TZOFFSETTO:+0100
TZNAME:BST
DTSTART:20260329T010000
END:DAYLIGHT
BEGIN:STANDARD
TZOFFSETFROM:+0100
TZOFFSETTO:+0000
TZNAME:GMT
DTSTART:20261025T010000
END:STANDARD
BEGIN:DAYLIGHT
TZOFFSETFROM:+0000
TZOFFSETTO:+0100
TZNAME:BST
DTSTART:20270328T010000
END:DAYLIGHT
BEGIN:STANDARD
TZOFFSETFROM:+0100
TZOFFSETTO:+0000
TZNAME:GMT
DTSTART:20271031T010000
END:STANDARD
END:VTIMEZONE
BEGIN:VEVENT
DTSTART;TZID=Europe/London:20260422T201500
DTEND;TZID=Europe/London:20260422T221500
DTSTAMP:20260421T065416
CREATED:20260325T211750Z
LAST-MODIFIED:20260325T211750Z
UID:6936-1776888900-1776896100@sandwellaquatics.org
SUMMARY:Solihull Men V Sandwell A
DESCRIPTION:
URL:https://sandwellaquatics.org/event/solihull-men-v-sandwell-a-2/
LOCATION:Xcel Leisure Centre\, Mitchell Ave\, Coventry\, CV4 8DY\, United Kingdom
CATEGORIES:Water Polo
END:VEVENT
BEGIN:VEVENT
DTSTART;TZID=Europe/London:20260427T202000
DTEND;TZID=Europe/London:20260427T222000
DTSTAMP:20260421T065416
CREATED:20260325T211823Z
LAST-MODIFIED:20260325T211823Z
UID:6949-1777321200-1777328400@sandwellaquatics.org
SUMMARY:Camp Hill V Sandwell B
DESCRIPTION:
URL:https://sandwellaquatics.org/event/camp-hill-v-sandwell-b-2/
LOCATION:King Edward VI School Pool
CATEGORIES:Water Polo
END:VEVENT
BEGIN:VEVENT
DTSTART;TZID=Europe/London:20260429T203000
DTEND;TZID=Europe/London:20260429T223000
DTSTAMP:20260421T065416
CREATED:20260325T211750Z
LAST-MODIFIED:20260325T211750Z
UID:6937-1777494600-1777501800@sandwellaquatics.org
SUMMARY:Sandwell A V City of Oxford Men
DESCRIPTION:
URL:https://sandwellaquatics.org/event/sandwell-a-v-city-of-oxford-men-2/
LOCATION:Sandwell Aquatics Centre\, Londonderry Ln\, Smethwick\, B67 7EW\, United Kingdom
CATEGORIES:Water Polo
END:VEVENT
END:VCALENDAR