BEGIN:VCALENDAR
VERSION:2.0
PRODID:-//Sandwell Aquatics Club - ECPv6.15.20//NONSGML v1.0//EN
CALSCALE:GREGORIAN
METHOD:PUBLISH
X-WR-CALNAME:Sandwell Aquatics Club
X-ORIGINAL-URL:https://sandwellaquatics.org
X-WR-CALDESC:Events for Sandwell Aquatics Club
REFRESH-INTERVAL;VALUE=DURATION:PT1H
X-Robots-Tag:noindex
X-PUBLISHED-TTL:PT1H
BEGIN:VTIMEZONE
TZID:Europe/London
BEGIN:DAYLIGHT
TZOFFSETFROM:+0000
TZOFFSETTO:+0100
TZNAME:BST
DTSTART:20250330T010000
END:DAYLIGHT
BEGIN:STANDARD
TZOFFSETFROM:+0100
TZOFFSETTO:+0000
TZNAME:GMT
DTSTART:20251026T010000
END:STANDARD
BEGIN:DAYLIGHT
TZOFFSETFROM:+0000
TZOFFSETTO:+0100
TZNAME:BST
DTSTART:20260329T010000
END:DAYLIGHT
BEGIN:STANDARD
TZOFFSETFROM:+0100
TZOFFSETTO:+0000
TZNAME:GMT
DTSTART:20261025T010000
END:STANDARD
BEGIN:DAYLIGHT
TZOFFSETFROM:+0000
TZOFFSETTO:+0100
TZNAME:BST
DTSTART:20270328T010000
END:DAYLIGHT
BEGIN:STANDARD
TZOFFSETFROM:+0100
TZOFFSETTO:+0000
TZNAME:GMT
DTSTART:20271031T010000
END:STANDARD
END:VTIMEZONE
BEGIN:VEVENT
DTSTART;TZID=Europe/London:20260422T201500
DTEND;TZID=Europe/London:20260422T221500
DTSTAMP:20260421T083208
CREATED:20260325T211750Z
LAST-MODIFIED:20260325T211750Z
UID:6936-1776888900-1776896100@sandwellaquatics.org
SUMMARY:Solihull Men V Sandwell A
DESCRIPTION:
URL:https://sandwellaquatics.org/event/solihull-men-v-sandwell-a-2/
LOCATION:Xcel Leisure Centre\, Mitchell Ave\, Coventry\, CV4 8DY\, United Kingdom
CATEGORIES:Water Polo
END:VEVENT
BEGIN:VEVENT
DTSTART;TZID=Europe/London:20260425T090000
DTEND;TZID=Europe/London:20260426T173000
DTSTAMP:20260421T083208
CREATED:20251230T121810Z
LAST-MODIFIED:20260408T204525Z
UID:6007-1777107600-1777224600@sandwellaquatics.org
SUMMARY:Swim England West Midlands Summer Championships 2026 - Weekend 1
DESCRIPTION:
URL:https://sandwellaquatics.org/event/swim-england-west-midlands-summer-championships-2026-2/
LOCATION:Sandwell Aquatics Centre\, Londonderry Ln\, Smethwick\, B67 7EW\, United Kingdom
CATEGORIES:Swimming
END:VEVENT
BEGIN:VEVENT
DTSTART;TZID=Europe/London:20260425T170000
DTEND;TZID=Europe/London:20260425T220000
DTSTAMP:20260421T083208
CREATED:20251230T120757Z
LAST-MODIFIED:20251231T060950Z
UID:5991-1777136400-1777154400@sandwellaquatics.org
SUMMARY:2026 Mercian League Round 2
DESCRIPTION:00Days00Hours00Minutes00Seconds\n\n\n\n\n\n\nSandwell Aquatics is proud to be competing in the Mercian League taking part in all scheduled rounds of the competition. The Mercian Swimming League is a regional team competition that brings swimming clubs together to race across multiple rounds\, promoting competitive development\, teamwork\, and progression for swimmers of all ages and abilities. \n\n\n\nGala Details\n\n\n\n\n\n\n\nTBC \n\n\n\nSpectator Tickets\n\n\n\n\n\n\n\nTBC \n\n\n\n\n\nAdditional Events\n\n\n\n\n\n\n\n    \n        \n\n            \n\n            Swim England West Midlands Summer Championships 2026 – Weekend 2\n            \n                \n            \n        \n            \n                Swim England West Midlands Summer Championships 2026 – Weekend 2\n            \n        \n            on April 8\, 2026\n        Nuneaton Diddy League Round 2\n            \n                \n            \n        \n            \n                Nuneaton Diddy League Round 2\n            \n        \n            on December 30\, 2025\n        Swim England West Midlands Summer Championships 2026 – Weekend 1\n            \n                \n            \n        \n            \n                Swim England West Midlands Summer Championships 2026 – Weekend 1\n            \n        \n            on December 30\, 2025\n                \n    \n\n\n\n\n\n\n\n\nVenue\n\n\n\n\n\n\n\n\n\nOrganiser
URL:https://sandwellaquatics.org/event/2026-mercian-league-round-2/
CATEGORIES:Swimming
END:VEVENT
BEGIN:VEVENT
DTSTART;TZID=Europe/London:20260427T202000
DTEND;TZID=Europe/London:20260427T222000
DTSTAMP:20260421T083208
CREATED:20260325T211823Z
LAST-MODIFIED:20260325T211823Z
UID:6949-1777321200-1777328400@sandwellaquatics.org
SUMMARY:Camp Hill V Sandwell B
DESCRIPTION:
URL:https://sandwellaquatics.org/event/camp-hill-v-sandwell-b-2/
LOCATION:King Edward VI School Pool
CATEGORIES:Water Polo
END:VEVENT
BEGIN:VEVENT
DTSTART;TZID=Europe/London:20260429T203000
DTEND;TZID=Europe/London:20260429T223000
DTSTAMP:20260421T083208
CREATED:20260325T211750Z
LAST-MODIFIED:20260325T211750Z
UID:6937-1777494600-1777501800@sandwellaquatics.org
SUMMARY:Sandwell A V City of Oxford Men
DESCRIPTION:
URL:https://sandwellaquatics.org/event/sandwell-a-v-city-of-oxford-men-2/
LOCATION:Sandwell Aquatics Centre\, Londonderry Ln\, Smethwick\, B67 7EW\, United Kingdom
CATEGORIES:Water Polo
END:VEVENT
BEGIN:VEVENT
DTSTART;TZID=Europe/London:20260502T090000
DTEND;TZID=Europe/London:20260504T170000
DTSTAMP:20260421T083208
CREATED:20260408T203458Z
LAST-MODIFIED:20260408T204653Z
UID:7035-1777712400-1777914000@sandwellaquatics.org
SUMMARY:Swim England West Midlands Summer Championships 2026 – Weekend 2
DESCRIPTION:
URL:https://sandwellaquatics.org/event/swim-england-west-midlands-summer-championships-2026-weekend-2/
LOCATION:Sandwell Aquatics Centre\, Londonderry Ln\, Smethwick\, B67 7EW\, United Kingdom
CATEGORIES:Swimming
END:VEVENT
BEGIN:VEVENT
DTSTART;TZID=Europe/London:20260504T183000
DTEND;TZID=Europe/London:20260504T203000
DTSTAMP:20260421T083208
CREATED:20250930T220214Z
LAST-MODIFIED:20260402T175146Z
UID:5220-1777919400-1777926600@sandwellaquatics.org
SUMMARY:2026 Open Water Session Start
DESCRIPTION:Our Open Water Schedule\n\n\n\n\n\n\n\n\n\n\n\n\n\n\n\nWe currently have the following swimming sessions: \n\n\n\nDayTimeVenueMonday1845 – 2015Open Water SwimmingSwan PoolSunday0830 – 1000Open Water SwimmingSwan Pool\n\n\n\nIMPORTANT: Open Water Swimming is only available May – September
URL:https://sandwellaquatics.org/event/2026-open-water-session-start/
CATEGORIES:Open Water,Swimming
ATTACH;FMTTYPE=image/jpeg:https://sandwellaquatics.org/wp-content/uploads/2025/08/swanPool-location.jpg
END:VEVENT
BEGIN:VEVENT
DTSTART;TZID=Europe/London:20260506T203000
DTEND;TZID=Europe/London:20260506T223000
DTSTAMP:20260421T083208
CREATED:20260325T211750Z
LAST-MODIFIED:20260325T211750Z
UID:6938-1778099400-1778106600@sandwellaquatics.org
SUMMARY:Sandwell A V H.G.S.O.B. Men A
DESCRIPTION:
URL:https://sandwellaquatics.org/event/sandwell-a-v-h-g-s-o-b-men-a-2/
LOCATION:Sandwell Aquatics Centre\, Londonderry Ln\, Smethwick\, B67 7EW\, United Kingdom
CATEGORIES:Water Polo
END:VEVENT
BEGIN:VEVENT
DTSTART;TZID=Europe/London:20260509T170000
DTEND;TZID=Europe/London:20260509T203000
DTSTAMP:20260421T083208
CREATED:20251230T121824Z
LAST-MODIFIED:20260325T184827Z
UID:6009-1778346000-1778358600@sandwellaquatics.org
SUMMARY:Nuneaton Diddy League Round 2
DESCRIPTION:00Days00Hours00Minutes00Seconds\n\n\n\n\n\n\nThe Nuneaton Diddy League is a fun\, beginner-friendly swimming league designed for young swimmers at the early stages of competitive swimming. It provides a supportive introduction to racing\, teamwork\, and gala environments\, helping children build confidence\, skills\, and a love for the sport before progressing to higher-level competitions. \n\n\n\nGala Details\n\n\n\n\n\n\n\nTBC \n\n\n\nSpectator Tickets\n\n\n\n\n\n\n\nTBC \n\n\n\n\n\nAdditional Events\n\n\n\n\n\n\n\n    \n        \n\n            \n\n            Swim England West Midlands Summer Championships 2026 – Weekend 2\n            \n                \n            \n        \n            \n                Swim England West Midlands Summer Championships 2026 – Weekend 2\n            \n        \n            on April 8\, 2026\n        Nuneaton Diddy League Round 2\n            \n                \n            \n        \n            \n                Nuneaton Diddy League Round 2\n            \n        \n            on December 30\, 2025\n        Swim England West Midlands Summer Championships 2026 – Weekend 1\n            \n                \n            \n        \n            \n                Swim England West Midlands Summer Championships 2026 – Weekend 1\n            \n        \n            on December 30\, 2025\n                \n    \n\n\n\n\n\n\n\n\nVenue\n\n\n\n\n\n\n\n\n\nOrganiser
URL:https://sandwellaquatics.org/event/nuneaton-diddy-league-round-2-2/
CATEGORIES:Swimming
END:VEVENT
BEGIN:VEVENT
DTSTART;TZID=Europe/London:20260510T080000
DTEND;TZID=Europe/London:20260510T170000
DTSTAMP:20260421T083208
CREATED:20251118T175329Z
LAST-MODIFIED:20260326T172004Z
UID:5457-1778400000-1778432400@sandwellaquatics.org
SUMMARY:Sandwell Aquatics Masters Meet 2026
DESCRIPTION:00Days00Hours00Minutes00Seconds\n\n\n\n\n\n\n\nEvent Details\n\n\n\n\n\n\n\nSandwell Aquatics Club is excited to present its’ first Masters Meet taking place on Sunday 10th May\, 2026. \n\n\n\nHeld at the iconic Commonwealth Games venue\, this meet is an opportunity to race long course prior to British Masters Championships the following month. \n\n\n\nEvents will be 50s\, 100s\, and 200s of each stroke\, as well as 4×50 freestyle and medley relays\, and 200IM. \n\n\n\nMeet Conditions (Entry Pack)Schedule of Events\nMeet Conditions Document \n\n\nWe are sharing a public folder where all event details for the meet will be posted. As additional information is confirmed\, new documents and updates will be added to this folder\, so please check back regularly for the latest files. \n\n\n\n\nPublic Folder Link\n\n\n\nENTRY PACK\n\n\n\n\n\nSchedule of Events \n\n\n\n\nMeet Entry Form\n\n\n\n\n\n\n\nFurther information will be available in due course\, and you can sign up to get this straight to your inbox via the Expression of Interest Form \n\n\n\nBooking FormClub Data Entry File\nEntries are now closed.\n\n\n\n\n\nClub SPORTSYSTEM Entry File – (CLUB ENTRIES ONLY) \n\n\n\nSM26_EntryData_V2.sefDownload\n\n\n\n\n\n\n\n\n\n\n\n\n\n\n\nVolunteers/Officials Sign-up\n\n\n\n\n\n\n\n\nOfficials\n\n\n\nVolunteers\n\n\n\n\n\n\nEvent Organiser Details\n\n\n\n\n\n\n\n\n\nSandwell Aquatics Club \n\n\n\nmasters@sandwellaquatics.org \n\n\n\n\n\nResults\n\n\n\nFeedback\n\n\n\n\n\n\n\n\n\nExternal Links\n\n\n\n\n\n\n\n\nSwim England\n\n\n\nSwim England Events Calendar\n\n\n\nSwim England Events Rankings\n\n\n\nSwim England Individual Rankings\n\n\n\nSwim England Membership Check\n\n\n\nSwim England Masters\n\n\n\nSwim England WM Region\n\n\n\nBritish Swimming\n\n\n\nSA Swim Manager Login\n\n\n\nWorcester County SA\n\n\n\n\n\n\nFollow Us\n\n\n\n\n\n\n\nFacebook\n\nInstagram\n\nMail
URL:https://sandwellaquatics.org/event/sandwell-aquatics-masters-meet-2026/
CATEGORIES:Swimming
ATTACH;FMTTYPE=image/jpeg:https://sandwellaquatics.org/wp-content/uploads/2025/11/2026-Masters-Meet.jpg
END:VEVENT
BEGIN:VEVENT
DTSTART;TZID=Europe/London:20260510T180000
DTEND;TZID=Europe/London:20260510T200000
DTSTAMP:20260421T083208
CREATED:20260325T211853Z
LAST-MODIFIED:20260325T211853Z
UID:6962-1778436000-1778443200@sandwellaquatics.org
SUMMARY:Boldmere Youth V Sandwell Aquatics Youth
DESCRIPTION:
URL:https://sandwellaquatics.org/event/boldmere-youth-v-sandwell-aquatics-youth-2/
LOCATION:Wyndley Leisure Centre\, Clifton Rd\, Sutton Coldfield\, B73 6EB\, United Kingdom
CATEGORIES:Water Polo
END:VEVENT
BEGIN:VEVENT
DTSTART;TZID=Europe/London:20260513T203000
DTEND;TZID=Europe/London:20260513T223000
DTSTAMP:20260421T083208
CREATED:20260325T211853Z
LAST-MODIFIED:20260325T211853Z
UID:6963-1778704200-1778711400@sandwellaquatics.org
SUMMARY:Sandwell Aquatics Youth V Cheltenham Youth
DESCRIPTION:
URL:https://sandwellaquatics.org/event/sandwell-aquatics-youth-v-cheltenham-youth-2/
LOCATION:Sandwell Aquatics Centre\, Londonderry Ln\, Smethwick\, B67 7EW\, United Kingdom
CATEGORIES:Water Polo
END:VEVENT
BEGIN:VEVENT
DTSTART;TZID=Europe/London:20260520T203000
DTEND;TZID=Europe/London:20260520T223000
DTSTAMP:20260421T083208
CREATED:20260325T211908Z
LAST-MODIFIED:20260325T211908Z
UID:6967-1779309000-1779316200@sandwellaquatics.org
SUMMARY:Sandwell A&B V Worcester
DESCRIPTION:
URL:https://sandwellaquatics.org/event/sandwell-ab-v-worcester-2/
LOCATION:Sandwell Aquatics Centre\, Londonderry Ln\, Smethwick\, B67 7EW\, United Kingdom
CATEGORIES:Water Polo
END:VEVENT
BEGIN:VEVENT
DTSTART;TZID=Europe/London:20260603T203000
DTEND;TZID=Europe/London:20260603T223000
DTSTAMP:20260421T083208
CREATED:20260325T211751Z
LAST-MODIFIED:20260325T211751Z
UID:6939-1780518600-1780525800@sandwellaquatics.org
SUMMARY:Sandwell A V Worcester Crocodiles Men
DESCRIPTION:
URL:https://sandwellaquatics.org/event/sandwell-a-v-worcester-crocodiles-men-2/
LOCATION:Sandwell Aquatics Centre\, Londonderry Ln\, Smethwick\, B67 7EW\, United Kingdom
CATEGORIES:Water Polo
END:VEVENT
BEGIN:VEVENT
DTSTART;TZID=Europe/London:20260606T121500
DTEND;TZID=Europe/London:20260606T141500
DTSTAMP:20260421T083208
CREATED:20260325T205357Z
LAST-MODIFIED:20260325T211908Z
UID:6892-1780748100-1780755300@sandwellaquatics.org
SUMMARY:Northampton Youth V Sandwell Aquatics Youth
DESCRIPTION:
URL:https://sandwellaquatics.org/event/northampton-youth-v-sandwell-aquatics-youth/
LOCATION:Northampton School for Boys\, Billing Road\, Northampton\, NN1 5RT\, United Kingdom
CATEGORIES:Water Polo
END:VEVENT
BEGIN:VEVENT
DTSTART;TZID=Europe/London:20260610T203000
DTEND;TZID=Europe/London:20260610T223000
DTSTAMP:20260421T083208
CREATED:20260325T211908Z
LAST-MODIFIED:20260325T211908Z
UID:6964-1781123400-1781130600@sandwellaquatics.org
SUMMARY:Sandwell Aquatics Youth V Solihull Youth
DESCRIPTION:
URL:https://sandwellaquatics.org/event/sandwell-aquatics-youth-v-solihull-youth-2/
LOCATION:Sandwell Aquatics Centre\, Londonderry Ln\, Smethwick\, B67 7EW\, United Kingdom
CATEGORIES:Water Polo
END:VEVENT
BEGIN:VEVENT
DTSTART;TZID=Europe/London:20260614T180000
DTEND;TZID=Europe/London:20260614T200000
DTSTAMP:20260421T083208
CREATED:20260325T211752Z
LAST-MODIFIED:20260325T211752Z
UID:6940-1781460000-1781467200@sandwellaquatics.org
SUMMARY:Warwick A V Sandwell A
DESCRIPTION:
URL:https://sandwellaquatics.org/event/warwick-a-v-sandwell-a-3/
CATEGORIES:Water Polo
END:VEVENT
BEGIN:VEVENT
DTSTART;TZID=Europe/London:20260617T203000
DTEND;TZID=Europe/London:20260617T223000
DTSTAMP:20260421T083208
CREATED:20260325T211753Z
LAST-MODIFIED:20260325T211753Z
UID:6941-1781728200-1781735400@sandwellaquatics.org
SUMMARY:Sandwell A V City of Coventry Men A
DESCRIPTION:
URL:https://sandwellaquatics.org/event/sandwell-a-v-city-of-coventry-men-a-2/
LOCATION:Sandwell Aquatics Centre\, Londonderry Ln\, Smethwick\, B67 7EW\, United Kingdom
CATEGORIES:Water Polo
END:VEVENT
BEGIN:VEVENT
DTSTART;TZID=Europe/London:20260624T203000
DTEND;TZID=Europe/London:20260624T223000
DTSTAMP:20260421T083208
CREATED:20260325T211823Z
LAST-MODIFIED:20260325T211823Z
UID:6950-1782333000-1782340200@sandwellaquatics.org
SUMMARY:Sandwell B V City of Coventry Men B
DESCRIPTION:
URL:https://sandwellaquatics.org/event/sandwell-b-v-city-of-coventry-men-b-2/
LOCATION:Sandwell Aquatics Centre\, Londonderry Ln\, Smethwick\, B67 7EW\, United Kingdom
CATEGORIES:Water Polo
END:VEVENT
BEGIN:VEVENT
DTSTART;TZID=Europe/London:20260628T201500
DTEND;TZID=Europe/London:20260628T221500
DTSTAMP:20260421T083208
CREATED:20260325T211908Z
LAST-MODIFIED:20260325T211908Z
UID:6965-1782677700-1782684900@sandwellaquatics.org
SUMMARY:Cheltenham Youth V Sandwell Aquatics Youth
DESCRIPTION:
URL:https://sandwellaquatics.org/event/cheltenham-youth-v-sandwell-aquatics-youth-2/
LOCATION:Cheltenham Leisure Centre\, Tommy Taylors Ln\, Cheltenham\, GL50 4RN\, United Kingdom
CATEGORIES:Water Polo
END:VEVENT
BEGIN:VEVENT
DTSTART;TZID=Europe/London:20260628T210000
DTEND;TZID=Europe/London:20260628T230000
DTSTAMP:20260421T083208
CREATED:20260325T211753Z
LAST-MODIFIED:20260325T211753Z
UID:6942-1782680400-1782687600@sandwellaquatics.org
SUMMARY:Boldmere Men A V Sandwell A
DESCRIPTION:
URL:https://sandwellaquatics.org/event/boldmere-men-a-v-sandwell-a-2/
LOCATION:Wyndley Leisure Centre\, Clifton Rd\, Sutton Coldfield\, B73 6EB\, United Kingdom
CATEGORIES:Water Polo
END:VEVENT
BEGIN:VEVENT
DTSTART;TZID=Europe/London:20260701T203000
DTEND;TZID=Europe/London:20260701T223000
DTSTAMP:20260421T083208
CREATED:20260325T211823Z
LAST-MODIFIED:20260325T211823Z
UID:6951-1782937800-1782945000@sandwellaquatics.org
SUMMARY:Sandwell B V Camp Hill
DESCRIPTION:
URL:https://sandwellaquatics.org/event/sandwell-b-v-camp-hill-2/
LOCATION:Sandwell Aquatics Centre\, Londonderry Ln\, Smethwick\, B67 7EW\, United Kingdom
CATEGORIES:Water Polo
END:VEVENT
BEGIN:VEVENT
DTSTART;TZID=Europe/London:20260703T200500
DTEND;TZID=Europe/London:20260703T220500
DTSTAMP:20260421T083208
CREATED:20260325T211753Z
LAST-MODIFIED:20260325T211753Z
UID:6943-1783109100-1783116300@sandwellaquatics.org
SUMMARY:H.G.S.O.B. Men A V Sandwell A
DESCRIPTION:
URL:https://sandwellaquatics.org/event/h-g-s-o-b-men-a-v-sandwell-a-2/
CATEGORIES:Water Polo
END:VEVENT
BEGIN:VEVENT
DTSTART;TZID=Europe/London:20260704T090000
DTEND;TZID=Europe/London:20260704T170000
DTSTAMP:20260421T083208
CREATED:20250904T224200Z
LAST-MODIFIED:20260326T172104Z
UID:4311-1783155600-1783184400@sandwellaquatics.org
SUMMARY:2026 Sandwell Open Water Aquathlon
DESCRIPTION:00Days00Hours00Minutes00Seconds\n\n\n\n\n\nRace Description\n\n\n\n\n\n\n\nAn event for the whole family to participate in. With categories for children 8-16yrs\, youths & Adults as well as a scootathon for 2-7yr old siblings. \n\n\n\nIt all begins with an Open water lake swim\, followed by a run circuit on pathways all within the Sandwell Country Park. All the excitement in a great location! \n\n\n\nThis Event has been run for many years as a Triathlon (swim/bike/run) but to encourage more into the sport following Covid\, the Event is being run as an Aquathlon (same swim/run course but no cycle segment) with the option of “swim only” for 2026. \n\n\n\nRace Format\n\n\n\n\n\n\n\nThis is an aquathlon (swim + run)\, rather than a full triathlon; there is no cycling leg for 2026. The format also offers a “swim only” option. \n\n\n\nRace Options / Categories & Distances\n\n\n\n\n\n\n\nThere are races for different ages / ability categories. Most races involve a swim in open water (the Swan Lake)\, followed by a run\, with a transition in between. Transition includes a 60m section over tarmac. \n\n\n\nRaces and Distances\n\n\n\n\n\n\n\n\nSwim/RunAdult 400m \nRace CategoryAges / NotesSwim DistanceRun DistanceTerrain & Other FeaturesAdults (Short)Adults400m swim4 km flat/gravel runOpen water lake swim; run is flat/gravel;transition 60 m on tarmac; aid stations\, distance markers etc.\n\n\n\n\nSwim        Adult 400m Swim+Transition ONLY\nAdults (shorter)Adults400m swimN/AOpen water lake swim; transition 60 m on tarmac; \n\n\n\n\nSwim/RunAdult 750\nAdult 750Adults750m swim5 km runOpen water lake swim; run is flat/gravel;transition 60 m on tarmac; aid stations\, distance markers etc.\n\n\n\n\nSwim        Adult 750 Swim+Transition ONLY\nAdult 750Adults750m swimN/AOpen water lake swim; transition 60 m on tarmac; \n\n\n\n\nSwim/RunTriStar 1 (9-10yrs)\nTriStar 110/11 yrs on 31 Dec 2026150m swim1.2 km runOpen water lake swim; run is flat/gravel;transition 60 m on tarmac; aid stations\, distance markers etc.\n\n\n\n\nSwim/RunTriStar 2 (11-12yrs)\nTriStar 211/12 yrs on 31 Dec 2026250m swim1.8 km runOpen water lake swim; run is flat/gravel;transition 60 m on tarmac; aid stations\, distance markers etc.\n\n\n\n\nSwim/RunTriStar 3 (13-14yrs)\nTriStar 313/14 yrs on 31 Dec 2026300m swim & 2.4km runOpen water lake swim; run is flat/gravel;transition 60 m on tarmac; aid stations\, distance markers etc.\n\n\n\n\nSwim/RunTriStar Start (8yrs)\nTriStar Start8 yrs on 31 Dec 202650m swim & 600m runOpen water lake swim; run is flat/gravel;transition 60 m on tarmac; aid stations\, distance markers etc.\n\n\n\n\nSwim/RunYouth\nYouth15/16 yrs on 31 Dec 2026400m swim4 km runOpen water lake swim; run is flat/gravel;transition 60 m on tarmac; aid stations\, distance markers etc.\n\n\n\n\n\n\n\n\n\n\nEvent Contacts\n\n\n\n\n\n\n\n\n\n\n\nSign-up for Event\n\n\n\n\n\nExternal Links\n\n\n\n\n\n\n\n\nBritish Triathlon\n\n\n\nTriathlon England\n\n\n\nWorld Triathlon\n\n\n\nSwim Manager Login\n\n\n\nBritish Triathlon Login\n\n\n\n\n\n\nFollow Us\n\n\n\n\n\n\n\nFacebook\n\nInstagram\n\nMail
URL:https://sandwellaquatics.org/event/2026-sandwell-open-water-aquathlon/
LOCATION:Swan Pool – Sandwell Valley Country Park
CATEGORIES:Triathlon
ATTACH;FMTTYPE=image/jpeg:https://sandwellaquatics.org/wp-content/uploads/2025/09/swan-pool-lake-view-2.jpeg
ORGANIZER;CN="Sandwell Aquatics Club (Triathlon)":MAILTO:triathlon@sandwellaquatics.org
END:VEVENT
BEGIN:VEVENT
DTSTART;TZID=Europe/London:20260708T203000
DTEND;TZID=Europe/London:20260708T223000
DTSTAMP:20260421T083208
CREATED:20260325T211753Z
LAST-MODIFIED:20260325T211753Z
UID:6944-1783542600-1783549800@sandwellaquatics.org
SUMMARY:Sandwell A V Solihull Men
DESCRIPTION:
URL:https://sandwellaquatics.org/event/sandwell-a-v-solihull-men-3/
LOCATION:Sandwell Aquatics Centre\, Londonderry Ln\, Smethwick\, B67 7EW\, United Kingdom
CATEGORIES:Water Polo
END:VEVENT
BEGIN:VEVENT
DTSTART;TZID=Europe/London:20260709T203000
DTEND;TZID=Europe/London:20260709T223000
DTSTAMP:20260421T083208
CREATED:20260325T211823Z
LAST-MODIFIED:20260325T211823Z
UID:6952-1783629000-1783636200@sandwellaquatics.org
SUMMARY:City of Coventry Men B V Sandwell B
DESCRIPTION:
URL:https://sandwellaquatics.org/event/city-of-coventry-men-b-v-sandwell-b-2/
LOCATION:Alan Higgs Centre\, Allard Way\, Coventry\, CV3 1HW\, United Kingdom
CATEGORIES:Water Polo
END:VEVENT
BEGIN:VEVENT
DTSTART;TZID=Europe/London:20260906T210000
DTEND;TZID=Europe/London:20260906T230000
DTSTAMP:20260421T083208
CREATED:20260325T211823Z
LAST-MODIFIED:20260325T211823Z
UID:6953-1788728400-1788735600@sandwellaquatics.org
SUMMARY:Boldmere Men B V Sandwell B
DESCRIPTION:
URL:https://sandwellaquatics.org/event/boldmere-men-b-v-sandwell-b-2/
LOCATION:Wyndley Leisure Centre\, Clifton Rd\, Sutton Coldfield\, B73 6EB\, United Kingdom
CATEGORIES:Water Polo
END:VEVENT
BEGIN:VEVENT
DTSTART;TZID=Europe/London:20260907T204500
DTEND;TZID=Europe/London:20260907T224500
DTSTAMP:20260421T083208
CREATED:20260325T211808Z
LAST-MODIFIED:20260325T211808Z
UID:6945-1788813900-1788821100@sandwellaquatics.org
SUMMARY:City of Oxford Men V Sandwell A
DESCRIPTION:
URL:https://sandwellaquatics.org/event/city-of-oxford-men-v-sandwell-a-2/
CATEGORIES:Water Polo
END:VEVENT
BEGIN:VEVENT
DTSTART;TZID=Europe/London:20260909T203000
DTEND;TZID=Europe/London:20260909T223000
DTSTAMP:20260421T083208
CREATED:20260325T205053Z
LAST-MODIFIED:20260325T211808Z
UID:6873-1788985800-1788993000@sandwellaquatics.org
SUMMARY:Sandwell A V Boldmere Men A
DESCRIPTION:
URL:https://sandwellaquatics.org/event/sandwell-a-v-boldmere-men-a/
LOCATION:Sandwell Aquatics Centre\, Londonderry Ln\, Smethwick\, B67 7EW\, United Kingdom
CATEGORIES:Water Polo
END:VEVENT
BEGIN:VEVENT
DTSTART;TZID=Europe/London:20260911T203000
DTEND;TZID=Europe/London:20260911T223000
DTSTAMP:20260421T083208
CREATED:20260325T211838Z
LAST-MODIFIED:20260325T211838Z
UID:6954-1789158600-1789165800@sandwellaquatics.org
SUMMARY:Wellington V Sandwell B
DESCRIPTION:
URL:https://sandwellaquatics.org/event/wellington-v-sandwell-b-2/
CATEGORIES:Water Polo
END:VEVENT
END:VCALENDAR