BEGIN:VCALENDAR
VERSION:2.0
PRODID:-//Sandwell Aquatics Club - ECPv6.15.20//NONSGML v1.0//EN
CALSCALE:GREGORIAN
METHOD:PUBLISH
X-WR-CALNAME:Sandwell Aquatics Club
X-ORIGINAL-URL:https://sandwellaquatics.org
X-WR-CALDESC:Events for Sandwell Aquatics Club
REFRESH-INTERVAL;VALUE=DURATION:PT1H
X-Robots-Tag:noindex
X-PUBLISHED-TTL:PT1H
BEGIN:VTIMEZONE
TZID:Europe/London
BEGIN:DAYLIGHT
TZOFFSETFROM:+0000
TZOFFSETTO:+0100
TZNAME:BST
DTSTART:20250330T010000
END:DAYLIGHT
BEGIN:STANDARD
TZOFFSETFROM:+0100
TZOFFSETTO:+0000
TZNAME:GMT
DTSTART:20251026T010000
END:STANDARD
BEGIN:DAYLIGHT
TZOFFSETFROM:+0000
TZOFFSETTO:+0100
TZNAME:BST
DTSTART:20260329T010000
END:DAYLIGHT
BEGIN:STANDARD
TZOFFSETFROM:+0100
TZOFFSETTO:+0000
TZNAME:GMT
DTSTART:20261025T010000
END:STANDARD
BEGIN:DAYLIGHT
TZOFFSETFROM:+0000
TZOFFSETTO:+0100
TZNAME:BST
DTSTART:20270328T010000
END:DAYLIGHT
BEGIN:STANDARD
TZOFFSETFROM:+0100
TZOFFSETTO:+0000
TZNAME:GMT
DTSTART:20271031T010000
END:STANDARD
END:VTIMEZONE
BEGIN:VEVENT
DTSTART;TZID=Europe/London:20260709T203000
DTEND;TZID=Europe/London:20260709T223000
DTSTAMP:20260425T124450
CREATED:20260325T211823Z
LAST-MODIFIED:20260325T211823Z
UID:6952-1783629000-1783636200@sandwellaquatics.org
SUMMARY:City of Coventry Men B V Sandwell B
DESCRIPTION:
URL:https://sandwellaquatics.org/event/city-of-coventry-men-b-v-sandwell-b-2/
LOCATION:Alan Higgs Centre\, Allard Way\, Coventry\, CV3 1HW\, United Kingdom
CATEGORIES:Water Polo
END:VEVENT
BEGIN:VEVENT
DTSTART;TZID=Europe/London:20260712T080000
DTEND;TZID=Europe/London:20260712T170000
DTSTAMP:20260425T124450
CREATED:20260423T211626Z
LAST-MODIFIED:20260423T212941Z
UID:7200-1783843200-1783875600@sandwellaquatics.org
SUMMARY:2026 Final Sprint Showdown
DESCRIPTION:Meet Details\n\n\n\n\n\n\n\n\n00Days00Hours00Minutes00Seconds\n\n\n\n\n\nEvent Description\nJoin us for an exciting summer swimming competition designed to inspire fast racing\, great competition and a brilliant meet‑day experience. With a wide range of age groups and sprint events\, this meet is the perfect opportunity for swimmers to test themselves\, chase personal bests and race competitors of a similar standard. The added thrill of a 200m IM final in each age group gives swimmers something extra to aim for and keeps the energy high throughout the event.Run by an experienced promotor\, the meet offers a professionally delivered competition in a positive\, swimmer‑centred environment with medals up for grabs in every age group. Whether you’re developing confidence\, building racing skills or looking for an end‑goal target this summer\, this event promises quality racing\, clear organisation and an enjoyable experience for swimmers\, coaches and supporters alike. \n\n\n\n \n\n\n\n\nEvent Entries\nEntry Forms\n\n\n\n\n\n\n\n\nEntry FileIndividual/Club Entry Form\n\n\nSportsystem entry file will be available to download from 9 am on 25th May 2026. \n\n\n\n\n\n\nEntries Opening Soon – Entry form will be open at 9am on 1st June 2026 \n\n\n\n\n\n\n\n\n\n \n\n\n\nWithdrawal Form\n\n\n\n\n\n\n\nAny pre-meet withdrawals MUST be submitted using the form below by 6 pm on Wednesday\, 8th July 2026. \n\n\n\n \n\n\n\n\n\n\n\n\n\n\n\nEvent Day Logistics\n\nResults\n\n\n\nWithdrawal\n\n\n\nFeedback\n\n\n\n\n\nFiliming\n\n\n\nNo filming is permitted from the spectator gallery. If you do want to film from poolside for a you MUST complete the photo/filming consent form below and give to the lead referee. You MUST present your photos/videos to the Referee before the end of the relevant session. \n\n\n\n\n\nSpectator Tickets\n\n\nWe warmly encourage parents\, family members\, and supporters to come along and cheer on the team. Your support plays a huge role in creating a positive and motivating atmosphere for our swimmers. \n\nSpectator Tickets can be purchased on the day. £6.00 per session\, £10.00 for a full day. \n\nIMPORTANT: There is no onsite parking. Closest Parking is at the Harry Mitchell Leisure Centre\, 10 minutes walk away. \n\n\n\n\nEvent Organiser Details\n\n\n\nSandwell Aquatics Club \n\n\n\nopenmeets@sandwellaquatics.org \n\n\n\n\n\n\nFollow Us\n\n\n\n\n\n\n\nFacebook\n\nInstagram\n\nMail\n\n\n\n\n\n\n\n\nExternal Resources\n\nExternal Links\n\n\n\n\n\n\n\n\nSwim England\n\n\n\nSwim England Events Calendar\n\n\n\nSwim England Events Rankings\n\n\n\nSwim England Individual Rankings\n\n\n\nSwim England Membership Check\n\n\n\nSwim England Masters\n\n\n\nSwim England WM Region\n\n\n\nBritish Swimming\n\n\n\nSA Swim Manager Login\n\n\n\nWorcester County SA\n\n\n\n\n\n\n\n\n\n\nEvent Info & Documents\n\n\n\n\n\n\n\nFiSSh Promotors Conditions V1\n\n\n\n\n\nOfficials and Volunteers\n\n\n\n\n\n\n Officials Sign-up \n\n Volunteers Sign-up \n\n\n\n\n\n\n\n\n\n\n\nUpcoming Events\n\n\n\n\n\n\n\n    \n        \n\n            \n\n            Swim England West Midlands Summer Championships 2026 – Weekend 2\n            \n                \n            \n        \n            \n                Swim England West Midlands Summer Championships 2026 – Weekend 2\n            \n        \n            on April 8\, 2026\n        Nuneaton Diddy League Round 2\n            \n                \n            \n        \n            \n                Nuneaton Diddy League Round 2\n            \n        \n            on December 30\, 2025\n        Swim England West Midlands Summer Championships 2026 – Weekend 1\n            \n                \n            \n        \n            \n                Swim England West Midlands Summer Championships 2026 – Weekend 1\n            \n        \n            on December 30\, 2025
URL:https://sandwellaquatics.org/event/2026-final-sprint-showdown/
ATTACH;FMTTYPE=image/jpeg:https://sandwellaquatics.org/wp-content/uploads/2025/10/SandwellAquaticsTridentMeet2025-9079-scaled.jpg
END:VEVENT
BEGIN:VEVENT
DTSTART;TZID=Europe/London:20260906T210000
DTEND;TZID=Europe/London:20260906T230000
DTSTAMP:20260425T124450
CREATED:20260325T211823Z
LAST-MODIFIED:20260325T211823Z
UID:6953-1788728400-1788735600@sandwellaquatics.org
SUMMARY:Boldmere Men B V Sandwell B
DESCRIPTION:
URL:https://sandwellaquatics.org/event/boldmere-men-b-v-sandwell-b-2/
LOCATION:Wyndley Leisure Centre\, Clifton Rd\, Sutton Coldfield\, B73 6EB\, United Kingdom
CATEGORIES:Water Polo
END:VEVENT
BEGIN:VEVENT
DTSTART;TZID=Europe/London:20260907T204500
DTEND;TZID=Europe/London:20260907T224500
DTSTAMP:20260425T124450
CREATED:20260325T211808Z
LAST-MODIFIED:20260325T211808Z
UID:6945-1788813900-1788821100@sandwellaquatics.org
SUMMARY:City of Oxford Men V Sandwell A
DESCRIPTION:
URL:https://sandwellaquatics.org/event/city-of-oxford-men-v-sandwell-a-2/
CATEGORIES:Water Polo
END:VEVENT
BEGIN:VEVENT
DTSTART;TZID=Europe/London:20260909T203000
DTEND;TZID=Europe/London:20260909T223000
DTSTAMP:20260425T124450
CREATED:20260325T205053Z
LAST-MODIFIED:20260325T211808Z
UID:6873-1788985800-1788993000@sandwellaquatics.org
SUMMARY:Sandwell A V Boldmere Men A
DESCRIPTION:
URL:https://sandwellaquatics.org/event/sandwell-a-v-boldmere-men-a/
LOCATION:Sandwell Aquatics Centre\, Londonderry Ln\, Smethwick\, B67 7EW\, United Kingdom
CATEGORIES:Water Polo
END:VEVENT
BEGIN:VEVENT
DTSTART;TZID=Europe/London:20260911T203000
DTEND;TZID=Europe/London:20260911T223000
DTSTAMP:20260425T124450
CREATED:20260325T211838Z
LAST-MODIFIED:20260325T211838Z
UID:6954-1789158600-1789165800@sandwellaquatics.org
SUMMARY:Wellington V Sandwell B
DESCRIPTION:
URL:https://sandwellaquatics.org/event/wellington-v-sandwell-b-2/
CATEGORIES:Water Polo
END:VEVENT
BEGIN:VEVENT
DTSTART;TZID=Europe/London:20260913T171500
DTEND;TZID=Europe/London:20260913T191500
DTSTAMP:20260425T124450
CREATED:20260325T211908Z
LAST-MODIFIED:20260325T211908Z
UID:6966-1789319700-1789326900@sandwellaquatics.org
SUMMARY:Solihull Youth V Sandwell Aquatics Youth
DESCRIPTION:
URL:https://sandwellaquatics.org/event/solihull-youth-v-sandwell-aquatics-youth-2/
LOCATION:Xcel Leisure Centre\, Mitchell Ave\, Coventry\, CV4 8DY\, United Kingdom
CATEGORIES:Water Polo
END:VEVENT
BEGIN:VEVENT
DTSTART;TZID=Europe/London:20260916T203000
DTEND;TZID=Europe/London:20260916T223000
DTSTAMP:20260425T124450
CREATED:20260325T211838Z
LAST-MODIFIED:20260325T211838Z
UID:6955-1789590600-1789597800@sandwellaquatics.org
SUMMARY:Sandwell B V Boldmere Men B
DESCRIPTION:
URL:https://sandwellaquatics.org/event/sandwell-b-v-boldmere-men-b-2/
LOCATION:Sandwell Aquatics Centre\, Londonderry Ln\, Smethwick\, B67 7EW\, United Kingdom
CATEGORIES:Water Polo
END:VEVENT
BEGIN:VEVENT
DTSTART;TZID=Europe/London:20260923T203000
DTEND;TZID=Europe/London:20260923T223000
DTSTAMP:20260425T124450
CREATED:20260325T211838Z
LAST-MODIFIED:20260325T211838Z
UID:6956-1790195400-1790202600@sandwellaquatics.org
SUMMARY:Sandwell B V Kettering
DESCRIPTION:
URL:https://sandwellaquatics.org/event/sandwell-b-v-kettering-2/
LOCATION:Sandwell Aquatics Centre\, Londonderry Ln\, Smethwick\, B67 7EW\, United Kingdom
CATEGORIES:Water Polo
END:VEVENT
BEGIN:VEVENT
DTSTART;TZID=Europe/London:20260924T203000
DTEND;TZID=Europe/London:20260924T223000
DTSTAMP:20260425T124450
CREATED:20260325T211808Z
LAST-MODIFIED:20260325T211808Z
UID:6946-1790281800-1790289000@sandwellaquatics.org
SUMMARY:City of Coventry Men A V Sandwell A
DESCRIPTION:
URL:https://sandwellaquatics.org/event/city-of-coventry-men-a-v-sandwell-a-2/
LOCATION:Alan Higgs Centre\, Allard Way\, Coventry\, CV3 1HW\, United Kingdom
CATEGORIES:Water Polo
END:VEVENT
BEGIN:VEVENT
DTSTART;TZID=Europe/London:20261001T204500
DTEND;TZID=Europe/London:20261001T224500
DTSTAMP:20260425T124450
CREATED:20260325T211838Z
LAST-MODIFIED:20260325T211838Z
UID:6957-1790887500-1790894700@sandwellaquatics.org
SUMMARY:Aston Men V Sandwell B
DESCRIPTION:
URL:https://sandwellaquatics.org/event/aston-men-v-sandwell-b-2/
CATEGORIES:Water Polo
END:VEVENT
BEGIN:VEVENT
DTSTART;TZID=Europe/London:20261007T203000
DTEND;TZID=Europe/London:20261007T223000
DTSTAMP:20260425T124450
CREATED:20260325T211838Z
LAST-MODIFIED:20260325T211838Z
UID:6958-1791405000-1791412200@sandwellaquatics.org
SUMMARY:Sandwell B V Wellington
DESCRIPTION:
URL:https://sandwellaquatics.org/event/sandwell-b-v-wellington-2/
LOCATION:Sandwell Aquatics Centre\, Londonderry Ln\, Smethwick\, B67 7EW\, United Kingdom
CATEGORIES:Water Polo
END:VEVENT
BEGIN:VEVENT
DTSTART;TZID=Europe/London:20261014T203000
DTEND;TZID=Europe/London:20261014T223000
DTSTAMP:20260425T124450
CREATED:20260325T211853Z
LAST-MODIFIED:20260325T211853Z
UID:6959-1792009800-1792017000@sandwellaquatics.org
SUMMARY:Sandwell B V Aston Men
DESCRIPTION:
URL:https://sandwellaquatics.org/event/sandwell-b-v-aston-men-2/
LOCATION:Sandwell Aquatics Centre\, Londonderry Ln\, Smethwick\, B67 7EW\, United Kingdom
CATEGORIES:Water Polo
END:VEVENT
BEGIN:VEVENT
DTSTART;TZID=Europe/London:20261022T203000
DTEND;TZID=Europe/London:20261022T223000
DTSTAMP:20260425T124450
CREATED:20260325T211808Z
LAST-MODIFIED:20260325T212006Z
UID:6947-1792701000-1792708200@sandwellaquatics.org
SUMMARY:Worcester Crocodiles Men V Sandwell A
DESCRIPTION:
URL:https://sandwellaquatics.org/event/worcester-crocodiles-men-v-sandwell-a-2/
LOCATION:Kings School Swimming Pool\, Edgbaston Park Road\, Birmingham\, B15 2UA\, United Kingdom
CATEGORIES:Water Polo
END:VEVENT
END:VCALENDAR