BEGIN:VCALENDAR
VERSION:2.0
PRODID:-//Sandwell Aquatics Club - ECPv6.15.20//NONSGML v1.0//EN
CALSCALE:GREGORIAN
METHOD:PUBLISH
X-WR-CALNAME:Sandwell Aquatics Club
X-ORIGINAL-URL:https://sandwellaquatics.org
X-WR-CALDESC:Events for Sandwell Aquatics Club
REFRESH-INTERVAL;VALUE=DURATION:PT1H
X-Robots-Tag:noindex
X-PUBLISHED-TTL:PT1H
BEGIN:VTIMEZONE
TZID:Europe/London
BEGIN:DAYLIGHT
TZOFFSETFROM:+0000
TZOFFSETTO:+0100
TZNAME:BST
DTSTART:20240331T010000
END:DAYLIGHT
BEGIN:STANDARD
TZOFFSETFROM:+0100
TZOFFSETTO:+0000
TZNAME:GMT
DTSTART:20241027T010000
END:STANDARD
BEGIN:DAYLIGHT
TZOFFSETFROM:+0000
TZOFFSETTO:+0100
TZNAME:BST
DTSTART:20250330T010000
END:DAYLIGHT
BEGIN:STANDARD
TZOFFSETFROM:+0100
TZOFFSETTO:+0000
TZNAME:GMT
DTSTART:20251026T010000
END:STANDARD
BEGIN:DAYLIGHT
TZOFFSETFROM:+0000
TZOFFSETTO:+0100
TZNAME:BST
DTSTART:20260329T010000
END:DAYLIGHT
BEGIN:STANDARD
TZOFFSETFROM:+0100
TZOFFSETTO:+0000
TZNAME:GMT
DTSTART:20261025T010000
END:STANDARD
END:VTIMEZONE
BEGIN:VEVENT
DTSTART;TZID=Europe/London:20250912T173000
DTEND;TZID=Europe/London:20250912T193000
DTSTAMP:20260425T225018
CREATED:20250910T112242Z
LAST-MODIFIED:20251230T124118Z
UID:3194-1757698200-1757705400@sandwellaquatics.org
SUMMARY:2025 Club Champs - 1500m
DESCRIPTION:Get ready to witness a true test of endurance and technique at the 2025 Club Championships with the men’s and women’s 1500m Freestyle event. This demanding race\, the longest in the competition\, will push swimmers to their limits as they complete 30 lengths of the 50-meter pool. Swimmers will be competing for a coveted title and the opportunity to set new club records\, while showcasing their strength\, pacing\, and determination. This heat-declared winner event is a must-see for all spectators\, as every swimmer’s performance counts towards the final standings. \n\n\n\n\n\n\n\n\nEvent Documents\n\n\n\n\n\n\n\nMeet FlyerEntry FormEvent Schedule\n\n\n\n\n\n\n\n\n\n\n\n\n\n\n\n\n\n\nEvent Contacts\n\n\n\n\n\n\n\n\n\n\n\n\n\n\n\n\n\n\n\nExternal Links\n\n\n\n\n\n\n\n\nSwim England\n\n\n\nSwim England Events Calendar\n\n\n\nSwim England Events Rankings\n\n\n\nSwim England Individual Rankings\n\n\n\nSwim England Membership Check\n\n\n\nSwim England Masters\n\n\n\nSwim England WM Region\n\n\n\nBritish Swimming\n\n\n\nSA Swim Manager Login\n\n\n\nWorcester County SA\n\n\n\n\n\n\nFollow Us\n\n\n\n\n\n\n\nFacebook\n\nInstagram\n\nX\n\nWhatsApp\n\nMail
URL:https://sandwellaquatics.org/event/2025-club-champs/
CATEGORIES:Swimming
ATTACH;FMTTYPE=image/jpeg:https://sandwellaquatics.org/wp-content/uploads/2025/08/sac-location.jpg
END:VEVENT
BEGIN:VEVENT
DTSTART;TZID=Europe/London:20250910T201500
DTEND;TZID=Europe/London:20250910T213000
DTSTAMP:20260425T225018
CREATED:20250910T214911Z
LAST-MODIFIED:20251229T224731Z
UID:3273-1757535300-1757539800@sandwellaquatics.org
SUMMARY:Sandwell A vs Warwick A
DESCRIPTION:Sandwell A will face off against Warwick A in an upcoming water polo match in the Open Division 1 on 10th September 2025 at 20:15 at the Sandwell Aquatics Centre. In their head-to-head encounters\, Sandwell A has dominated with 12 total wins\, including 7 home wins and 5 away wins\, while Warwick A has yet to secure a victory. Recent matches between the two teams have seen Sandwell A consistently outperforming Warwick A. Notably\, in their most recent encounter on 11th September 2024\, Sandwell A emerged victorious with a convincing win over Warwick A. Looking at the recent form of both teams\, Sandwell A has displayed a strong performance with a series of wins against competitive opponents. In contrast\, Warwick A has struggled to secure victories in their recent matches. In terms of current standings\, Sandwell A is positioned higher than Warwick A\, having won 6 out of 7 matches and showcasing a superior score difference. Player statistics reveal that Sandwell A’s Nathan Wilkes and Cam Dallow have been standout performers\, contributing significantly to their team’s success. On the other hand\, Warwick A’s Max Decaluwe has been a key player\, leading his team in goals scored. Considering the historical dominance of Sandwell A over Warwick A\, their recent strong form\, and higher standing in the league\, it is likely that Sandwell A is the favourite to win the upcoming match. Based on the data and analysis\, Sandwell A is predicted to have a high probability of winning\, estimated at around 75% \n\n\n\n\n\n\n\nFixture Venue\n\n\n\n\n\n\n\n\n\n\nVist MWPL\n\n\n\n\n\n\nUseful External Links\n\n\n\n\n\n\n\n\nMidland Water Polo League\n\n\n\nBritish Water Polo League\n\n\n\nSpond (Login)\n\n\n\n\n\n\nFollow Us\n\n\n\n\n\n\n\nFacebook\n\nInstagram\n\nX\n\nWhatsApp\n\nMail
URL:https://sandwellaquatics.org/event/sandwell-a-v-warwick-a/
CATEGORIES:Water Polo
ATTACH;FMTTYPE=image/jpeg:https://sandwellaquatics.org/wp-content/uploads/2025/08/polo-pexels-case-originals-3800510-scaled.jpg
ORGANIZER;CN="Sandwell Aquatics Club (Swimming)":MAILTO:swimming@sandwellaquatics.org
END:VEVENT
BEGIN:VEVENT
DTSTART;TZID=Europe/London:20250907T090000
DTEND;TZID=Europe/London:20250907T160000
DTSTAMP:20260425T225018
CREATED:20250910T213702Z
LAST-MODIFIED:20251230T124118Z
UID:3263-1757235600-1757260800@sandwellaquatics.org
SUMMARY:2025 Club Champs - Session 4 & 5
DESCRIPTION:Day 2 of the Main Events \n\n\n\nJoin us for one of the biggest highlights of our club calendar – the 2025 Sandwell Aquatics Club Championships! This annual event brings together swimmers of all ages and abilities from across the club to showcase their progress\, competitive spirit\, and love for the sport. \n\n\n\nTaking place in a friendly but competitive atmosphere\, the Club Champs offer the chance for every swimmer – from our youngest members to our senior squads – to race in a full range of events. Medals\, trophies\, and personal bests will be up for grabs\, but most importantly\, it’s a celebration of our swimmers’ hard work and dedication throughout the year. \n\n\n\nFamilies\, friends\, and supporters are warmly encouraged to come along and cheer from the stands\, making it a true community event. With exciting races\, a vibrant atmosphere\, and plenty of opportunities to celebrate individual and team success\, this is a championship not to be missed. \n\n\n\n\n\n\n\nEvent Contacts\n\n\n\n\n\n\n\n\n\n\n\n\n\nExternal Links\n\n\n\n\n\n\n\n\nSwim England\n\n\n\nSwim England Events Calendar\n\n\n\nSwim England Events Rankings\n\n\n\nSwim England Individual Rankings\n\n\n\nSwim England Membership Check\n\n\n\nSwim England Masters\n\n\n\nSwim England WM Region\n\n\n\nBritish Swimming\n\n\n\nSA Swim Manager Login\n\n\n\nWorcester County SA\n\n\n\n\n\n\nFollow Us\n\n\n\n\n\n\n\nFacebook\n\nInstagram\n\nMail
URL:https://sandwellaquatics.org/event/2025-club-champs-session-4-5/
CATEGORIES:Swimming
END:VEVENT
BEGIN:VEVENT
DTSTART;TZID=Europe/London:20250906T110000
DTEND;TZID=Europe/London:20250906T180000
DTSTAMP:20260425T225018
CREATED:20250910T212217Z
LAST-MODIFIED:20251230T124119Z
UID:3260-1757156400-1757181600@sandwellaquatics.org
SUMMARY:2025 Club Champs - Session 2 & 3
DESCRIPTION:Join us for one of the biggest highlights of our club calendar – the 2025 Sandwell Aquatics Club Championships! This annual event brings together swimmers of all ages and abilities from across the club to showcase their progress\, competitive spirit\, and love for the sport. \n\n\n\nTaking place in a friendly but competitive atmosphere\, the Club Champs offer the chance for every swimmer – from our youngest members to our senior squads – to race in a full range of events. Medals\, trophies\, and personal bests will be up for grabs\, but most importantly\, it’s a celebration of our swimmers’ hard work and dedication throughout the year. \n\n\n\nFamilies\, friends\, and supporters are warmly encouraged to come along and cheer from the stands\, making it a true community event. With exciting races\, a vibrant atmosphere\, and plenty of opportunities to celebrate individual and team success\, this is a championship not to be missed. \n\n\n\n\n\n\n\nEvent Contacts\n\n\n\n\n\n\n\n\n\n\n\n\n\nExternal Links\n\n\n\n\n\n\n\n\nSwim England\n\n\n\nSwim England Events Calendar\n\n\n\nSwim England Events Rankings\n\n\n\nSwim England Individual Rankings\n\n\n\nSwim England Membership Check\n\n\n\nSwim England Masters\n\n\n\nSwim England WM Region\n\n\n\nBritish Swimming\n\n\n\nSA Swim Manager Login\n\n\n\nWorcester County SA\n\n\n\n\n\n\nFollow Us\n\n\n\n\n\n\n\nFacebook\n\nInstagram\n\nMail
URL:https://sandwellaquatics.org/event/2025-club-champs-main-events/
CATEGORIES:Swimming
END:VEVENT
BEGIN:VEVENT
DTSTART;TZID=Europe/London:20250905T173000
DTEND;TZID=Europe/London:20250905T193000
DTSTAMP:20260425T225018
CREATED:20250910T211435Z
LAST-MODIFIED:20251230T124119Z
UID:3254-1757093400-1757100600@sandwellaquatics.org
SUMMARY:2025 Club Champs - 800m
DESCRIPTION:Get ready to witness a true test of endurance and technique at the 2025 Club Championships with the men’s and women’s 800m Freestyle event. This demanding race\, the longest in the competition\, will push swimmers to their limits as they complete 32 lengths of the 25m pool. Swimmers will be competing for a coveted title and the opportunity to set new club records\, while showcasing their strength\, pacing\, and determination. This heat-declared winner event is a must-see for all spectators\, as every swimmer’s performance counts towards the final standings. \n\n\n\n\n\n\n\nEvent Contacts\n\n\n\n\n\n\n\n\n\n\n\n\n\nExternal Links\n\n\n\n\n\n\n\n\nSwim England\n\n\n\nSwim England Events Calendar\n\n\n\nSwim England Events Rankings\n\n\n\nSwim England Individual Rankings\n\n\n\nSwim England Membership Check\n\n\n\nSwim England Masters\n\n\n\nSwim England WM Region\n\n\n\nBritish Swimming\n\n\n\nSA Swim Manager Login\n\n\n\nWorcester County SA\n\n\n\n\n\n\nFollow Us\n\n\n\n\n\n\n\nFacebook\n\nInstagram\n\nMail
URL:https://sandwellaquatics.org/event/2025-club-champs-800m/
CATEGORIES:Swimming
END:VEVENT
END:VCALENDAR