BEGIN:VCALENDAR
VERSION:2.0
PRODID:-//Sandwell Aquatics Club - ECPv6.15.20//NONSGML v1.0//EN
CALSCALE:GREGORIAN
METHOD:PUBLISH
X-ORIGINAL-URL:https://sandwellaquatics.org
X-WR-CALDESC:Events for Sandwell Aquatics Club
REFRESH-INTERVAL;VALUE=DURATION:PT1H
X-Robots-Tag:noindex
X-PUBLISHED-TTL:PT1H
BEGIN:VTIMEZONE
TZID:Europe/London
BEGIN:DAYLIGHT
TZOFFSETFROM:+0000
TZOFFSETTO:+0100
TZNAME:BST
DTSTART:20250330T010000
END:DAYLIGHT
BEGIN:STANDARD
TZOFFSETFROM:+0100
TZOFFSETTO:+0000
TZNAME:GMT
DTSTART:20251026T010000
END:STANDARD
BEGIN:DAYLIGHT
TZOFFSETFROM:+0000
TZOFFSETTO:+0100
TZNAME:BST
DTSTART:20260329T010000
END:DAYLIGHT
BEGIN:STANDARD
TZOFFSETFROM:+0100
TZOFFSETTO:+0000
TZNAME:GMT
DTSTART:20261025T010000
END:STANDARD
BEGIN:DAYLIGHT
TZOFFSETFROM:+0000
TZOFFSETTO:+0100
TZNAME:BST
DTSTART:20270328T010000
END:DAYLIGHT
BEGIN:STANDARD
TZOFFSETFROM:+0100
TZOFFSETTO:+0000
TZNAME:GMT
DTSTART:20271031T010000
END:STANDARD
END:VTIMEZONE
BEGIN:VEVENT
DTSTART;TZID=Europe/London:20260307T080000
DTEND;TZID=Europe/London:20260308T173000
DTSTAMP:20260425T130217
CREATED:20251230T120738Z
LAST-MODIFIED:20251231T070507Z
UID:5980-1772870400-1772991000@sandwellaquatics.org
SUMMARY:Stourbridge Crystal Open Meet
DESCRIPTION:00Days00Hours00Minutes00Seconds\n\n\n\n\n\n\nMeet Details\n\n\n\n\n\n\n\nTBC \n\n\n\nSpectator Tickets\n\n\n\n\n\n\n\nTBC \n\n\n\n\n\nAdditional Events\n\n\n\n\n\n\n\n    \n        \n\n            \n\n            Nuneaton Diddy League Round 2\n            \n                \n            \n        \n            \n                Nuneaton Diddy League Round 2\n            \n        \n            on December 30\, 2025\n        Swim England West Midlands Summer Championships 2026 – Weekend 1\n            \n                \n            \n        \n            \n                Swim England West Midlands Summer Championships 2026 – Weekend 1\n            \n        \n            on December 30\, 2025\n        2026 Mercian League Round 2\n            \n                \n            \n        \n            \n                2026 Mercian League Round 2\n            \n        \n            on December 30\, 2025\n                \n    \n\n\n\n\n\n\n\n\nVenue\n\n\n\n\n\n\n\n\n\nOrganiser
URL:https://sandwellaquatics.org/event/stourbridge-crystal-open-meet-2/
CATEGORIES:Swimming
END:VEVENT
BEGIN:VEVENT
DTSTART;TZID=Europe/London:20260313T171500
DTEND;TZID=Europe/London:20260315T170000
DTSTAMP:20260425T130217
CREATED:20251230T121806Z
LAST-MODIFIED:20251231T070408Z
UID:6001-1773422100-1773594000@sandwellaquatics.org
SUMMARY:Sheffield Level 1 LC Premier Meet
DESCRIPTION:https://cosss.uk/wp-content/uploads/2025/10/Premier-Meet-2026-Meet-Pack.pdf
URL:https://sandwellaquatics.org/event/sheffield-level-1-lc-premier-meet-2/
CATEGORIES:Swimming
END:VEVENT
END:VCALENDAR