BEGIN:VCALENDAR
VERSION:2.0
PRODID:-//Sandwell Aquatics Club - ECPv6.15.20//NONSGML v1.0//EN
CALSCALE:GREGORIAN
METHOD:PUBLISH
X-WR-CALNAME:Sandwell Aquatics Club
X-ORIGINAL-URL:https://sandwellaquatics.org
X-WR-CALDESC:Events for Sandwell Aquatics Club
REFRESH-INTERVAL;VALUE=DURATION:PT1H
X-Robots-Tag:noindex
X-PUBLISHED-TTL:PT1H
BEGIN:VTIMEZONE
TZID:Europe/London
BEGIN:DAYLIGHT
TZOFFSETFROM:+0000
TZOFFSETTO:+0100
TZNAME:BST
DTSTART:20250330T010000
END:DAYLIGHT
BEGIN:STANDARD
TZOFFSETFROM:+0100
TZOFFSETTO:+0000
TZNAME:GMT
DTSTART:20251026T010000
END:STANDARD
BEGIN:DAYLIGHT
TZOFFSETFROM:+0000
TZOFFSETTO:+0100
TZNAME:BST
DTSTART:20260329T010000
END:DAYLIGHT
BEGIN:STANDARD
TZOFFSETFROM:+0100
TZOFFSETTO:+0000
TZNAME:GMT
DTSTART:20261025T010000
END:STANDARD
BEGIN:DAYLIGHT
TZOFFSETFROM:+0000
TZOFFSETTO:+0100
TZNAME:BST
DTSTART:20270328T010000
END:DAYLIGHT
BEGIN:STANDARD
TZOFFSETFROM:+0100
TZOFFSETTO:+0000
TZNAME:GMT
DTSTART:20271031T010000
END:STANDARD
END:VTIMEZONE
BEGIN:VEVENT
DTSTART;TZID=Europe/London:20260321T170000
DTEND;TZID=Europe/London:20260321T210000
DTSTAMP:20260425T113843
CREATED:20251230T121807Z
LAST-MODIFIED:20260320T093034Z
UID:6003-1774112400-1774126800@sandwellaquatics.org
SUMMARY:Nuneaton Diddy League Round 1
DESCRIPTION:00Days00Hours00Minutes00Seconds\n\n\n\n\n\n\nThe Nuneaton Diddy League is a fun\, beginner-friendly swimming league designed for young swimmers at the early stages of competitive swimming. It provides a supportive introduction to racing\, teamwork\, and gala environments\, helping children build confidence\, skills\, and a love for the sport before progressing to higher-level competitions. \n\n\n\nGala Details\n\n\n\n\n\n\n\nTomorrow is the first round of the Nuneaton Junior League Gala being held at Newbold Comyn Leisure centre\, Leamington\, CV32 4EW.  \n\n\n\nThe warm up is at 6:00pm with the gala starting at 6:30pm. Please can swimmers be at the pool for 5:45pm. \n\n\n\nThere is a large car park at the centre which is free.  \n\n\n\nSandwell will be in lane 3.  Below is a copy of the programme of events.  \n\n\n\nProgramme NJSLDownload\n\n\n\nThe teams competing in the gala are Worcester\, Leamington\, Droitwich\, Northgate and Redditch. \n\n\n\nDue to the limited amount of space on poolside please may I ask that swimmers bring a small bag only please. they will need a towel\, spare hat and goggles\, a tshirt to keep them warm (ideally a Sandwell Aquatics one or a black one) and plenty of drinks and snacks \n\n\n\nSpectator Tickets\n\n\n\n\n\n\n\nPrices for entrance are: \n\n\n\nAdults £4.00 \n\n\n\nConcessions £2.00 \n\n\n\nFamily of 4 (2 adults\, 2 children) £10\, extra children £2 each \n\n\n\nAdditional Events\n\n\n\n\n\n\n\n    \n        \n\n            \n\n            Swim England West Midlands Summer Championships 2026 – Weekend 2\n            \n                \n            \n        \n            \n                Swim England West Midlands Summer Championships 2026 – Weekend 2\n            \n        \n            on April 8\, 2026\n        Swim England West Midlands Summer Championships 2026 – Weekend 1\n            \n                \n            \n        \n            \n                Swim England West Midlands Summer Championships 2026 – Weekend 1\n            \n        \n            on December 30\, 2025\n        2026 Mercian League Round 2\n            \n                \n            \n        \n            \n                2026 Mercian League Round 2\n            \n        \n            on December 30\, 2025\n                \n    \n\n\n\n\n\n\n\n\nVenue\n\n\n\n\n\n\n\n\n\nOrganiser
URL:https://sandwellaquatics.org/event/nuneaton-diddy-league-round-1-2/
LOCATION:Newbold Comyn Leisure Centre\, Leamington Spa\, CV32 4EW
CATEGORIES:Swimming
END:VEVENT
END:VCALENDAR